BEGIN:VCALENDAR
VERSION:2.0
PRODID:-//#BoulderStrong Resource Center - ECPv6.15.20//NONSGML v1.0//EN
CALSCALE:GREGORIAN
METHOD:PUBLISH
X-ORIGINAL-URL:https://weareboulderstrong.org
X-WR-CALDESC:Events for #BoulderStrong Resource Center
REFRESH-INTERVAL;VALUE=DURATION:PT1H
X-Robots-Tag:noindex
X-PUBLISHED-TTL:PT1H
BEGIN:VTIMEZONE
TZID:America/Denver
BEGIN:DAYLIGHT
TZOFFSETFROM:-0700
TZOFFSETTO:-0600
TZNAME:MDT
DTSTART:20220313T090000
END:DAYLIGHT
BEGIN:STANDARD
TZOFFSETFROM:-0600
TZOFFSETTO:-0700
TZNAME:MST
DTSTART:20221106T080000
END:STANDARD
BEGIN:DAYLIGHT
TZOFFSETFROM:-0700
TZOFFSETTO:-0600
TZNAME:MDT
DTSTART:20230312T090000
END:DAYLIGHT
BEGIN:STANDARD
TZOFFSETFROM:-0600
TZOFFSETTO:-0700
TZNAME:MST
DTSTART:20231105T080000
END:STANDARD
BEGIN:DAYLIGHT
TZOFFSETFROM:-0700
TZOFFSETTO:-0600
TZNAME:MDT
DTSTART:20240310T090000
END:DAYLIGHT
BEGIN:STANDARD
TZOFFSETFROM:-0600
TZOFFSETTO:-0700
TZNAME:MST
DTSTART:20241103T080000
END:STANDARD
END:VTIMEZONE
BEGIN:VEVENT
DTSTART;TZID=America/Denver:20230627T103000
DTEND;TZID=America/Denver:20230627T170000
DTSTAMP:20260422T191445
CREATED:20230511T172135Z
LAST-MODIFIED:20230601T215047Z
UID:1097-1687861800-1687885200@weareboulderstrong.org
SUMMARY:Acudetox
DESCRIPTION:Acudetox is a type of acupuncture treatment that is performed on the ears by certified providers. Acudetox has many proven therapeutic benefits\, come by to learn more or try it out! All appointments are on a walk-in basis.
URL:https://weareboulderstrong.org/event/acudetox-16/
LOCATION:BoulderStrong Resource Center\, 2935 Baseline Rd\, Boulder\, CO\, 80303\, United States
END:VEVENT
BEGIN:VEVENT
DTSTART;TZID=America/Denver:20230627T103000
DTEND;TZID=America/Denver:20230627T170000
DTSTAMP:20260422T191445
CREATED:20230511T180330Z
LAST-MODIFIED:20230601T215115Z
UID:1132-1687861800-1687885200@weareboulderstrong.org
SUMMARY:Massage Therapy
DESCRIPTION:Reserve a 30 minute appointment with the front desk!
URL:https://weareboulderstrong.org/event/massage-therapy-25/
LOCATION:BoulderStrong Resource Center\, 2935 Baseline Rd\, Boulder\, CO\, 80303\, United States
END:VEVENT
BEGIN:VEVENT
DTSTART;TZID=America/Denver:20230627T160000
DTEND;TZID=America/Denver:20230627T170000
DTSTAMP:20260422T191445
CREATED:20230511T161756Z
LAST-MODIFIED:20230511T165541Z
UID:1030-1687881600-1687885200@weareboulderstrong.org
SUMMARY:The Written Expression
DESCRIPTION:Open drop-in Creative Writing Group. Creative writing has a ton of mental health benefits including self expression\, thought management\, and emotional regulation. Come join in and don’t worry\, all writing may be kept personal\, nothing has to be shared! Journals & Pens provided.
URL:https://weareboulderstrong.org/event/the-written-expression-9/
LOCATION:BoulderStrong Resource Center\, 2935 Baseline Rd\, Boulder\, CO\, 80303\, United States
END:VEVENT
BEGIN:VEVENT
DTSTART;TZID=America/Denver:20230627T160000
DTEND;TZID=America/Denver:20230627T170000
DTSTAMP:20260422T191445
CREATED:20230511T162054Z
LAST-MODIFIED:20230627T204853Z
UID:1042-1687881600-1687885200@weareboulderstrong.org
SUMMARY:Stretching & Breathing Group
DESCRIPTION:A gentle stretching and breathing group that aids in grounding and emotional regulation. All ability levels welcome!
URL:https://weareboulderstrong.org/event/stretching-breathing-group-11/
LOCATION:BoulderStrong Resource Center\, 2935 Baseline Rd\, Boulder\, CO\, 80303\, United States
END:VEVENT
BEGIN:VEVENT
DTSTART;TZID=America/Denver:20230628T143000
DTEND;TZID=America/Denver:20230628T160000
DTSTAMP:20260422T191445
CREATED:20230511T162136Z
LAST-MODIFIED:20230511T162136Z
UID:1029-1687962600-1687968000@weareboulderstrong.org
SUMMARY:Art Journaling Group
DESCRIPTION:An art journal is a visual diary; it is completely customizable and often combines elements of writing\, drawing\, painting\, and collage. Art journaling as a self-care practice can support your healing\, growth\, and wellness. The BSRC provides supplies\, including a blank journal\, to all participants. During meetings\, a suggested prompt is provided\, along with ample time for artistic expression. We hope to see you there!
URL:https://weareboulderstrong.org/event/art-journaling-group-8/
LOCATION:BoulderStrong Resource Center\, 2935 Baseline Rd\, Boulder\, CO\, 80303\, United States
END:VEVENT
BEGIN:VEVENT
DTSTART;TZID=America/Denver:20230629T103000
DTEND;TZID=America/Denver:20230629T170000
DTSTAMP:20260422T191445
CREATED:20230511T172423Z
LAST-MODIFIED:20230601T215218Z
UID:1104-1688034600-1688058000@weareboulderstrong.org
SUMMARY:Acudetox
DESCRIPTION:Acudetox is a type of acupuncture treatment that is performed on the ears by certified providers. Acudetox has many proven therapeutic benefits\, come by to learn more or try it out! All appointments are on a walk-in basis.
URL:https://weareboulderstrong.org/event/acudetox-20/
LOCATION:BoulderStrong Resource Center\, 2935 Baseline Rd\, Boulder\, CO\, 80303\, United States
END:VEVENT
BEGIN:VEVENT
DTSTART;TZID=America/Denver:20230629T103000
DTEND;TZID=America/Denver:20230629T170000
DTSTAMP:20260422T191445
CREATED:20230511T180448Z
LAST-MODIFIED:20230601T215200Z
UID:1148-1688034600-1688058000@weareboulderstrong.org
SUMMARY:Massage Therapy
DESCRIPTION:Reserve a 30 minute appointment with the front desk!
URL:https://weareboulderstrong.org/event/massage-therapy-26/
LOCATION:BoulderStrong Resource Center\, 2935 Baseline Rd\, Boulder\, CO\, 80303\, United States
END:VEVENT
BEGIN:VEVENT
DTSTART;TZID=America/Denver:20230629T123000
DTEND;TZID=America/Denver:20230629T130000
DTSTAMP:20260422T191445
CREATED:20230511T165854Z
LAST-MODIFIED:20230511T165854Z
UID:1063-1688041800-1688043600@weareboulderstrong.org
SUMMARY:Meditative Minds
DESCRIPTION:This is a DBT skills-based group that combines mindfulness concepts with an experiential meditation practice. All ability levels are welcome! \n  \n 
URL:https://weareboulderstrong.org/event/meditative-minds-4/
LOCATION:BoulderStrong Resource Center\, 2935 Baseline Rd\, Boulder\, CO\, 80303\, United States
END:VEVENT
BEGIN:VEVENT
DTSTART;TZID=America/Denver:20230630T150000
DTEND;TZID=America/Denver:20230630T160000
DTSTAMP:20260422T191445
CREATED:20230511T170141Z
LAST-MODIFIED:20230511T170141Z
UID:1073-1688137200-1688140800@weareboulderstrong.org
SUMMARY:Melodic Healing
DESCRIPTION:This is a group for both music lovers and musicians to come together\, share their passion for music\, and discover how it can be used as a powerful tool to cope with emotional distress.
URL:https://weareboulderstrong.org/event/melodic-healing-4/
LOCATION:BoulderStrong Resource Center\, 2935 Baseline Rd\, Boulder\, CO\, 80303\, United States
END:VEVENT
END:VCALENDAR