BEGIN:VCALENDAR
VERSION:2.0
PRODID:-//#BoulderStrong Resource Center - ECPv6.15.20//NONSGML v1.0//EN
CALSCALE:GREGORIAN
METHOD:PUBLISH
X-WR-CALNAME:#BoulderStrong Resource Center
X-ORIGINAL-URL:https://weareboulderstrong.org
X-WR-CALDESC:Events for #BoulderStrong Resource Center
REFRESH-INTERVAL;VALUE=DURATION:PT1H
X-Robots-Tag:noindex
X-PUBLISHED-TTL:PT1H
BEGIN:VTIMEZONE
TZID:America/Denver
BEGIN:DAYLIGHT
TZOFFSETFROM:-0700
TZOFFSETTO:-0600
TZNAME:MDT
DTSTART:20230312T090000
END:DAYLIGHT
BEGIN:STANDARD
TZOFFSETFROM:-0600
TZOFFSETTO:-0700
TZNAME:MST
DTSTART:20231105T080000
END:STANDARD
BEGIN:DAYLIGHT
TZOFFSETFROM:-0700
TZOFFSETTO:-0600
TZNAME:MDT
DTSTART:20240310T090000
END:DAYLIGHT
BEGIN:STANDARD
TZOFFSETFROM:-0600
TZOFFSETTO:-0700
TZNAME:MST
DTSTART:20241103T080000
END:STANDARD
BEGIN:DAYLIGHT
TZOFFSETFROM:-0700
TZOFFSETTO:-0600
TZNAME:MDT
DTSTART:20250309T090000
END:DAYLIGHT
BEGIN:STANDARD
TZOFFSETFROM:-0600
TZOFFSETTO:-0700
TZNAME:MST
DTSTART:20251102T080000
END:STANDARD
BEGIN:DAYLIGHT
TZOFFSETFROM:-0700
TZOFFSETTO:-0600
TZNAME:MDT
DTSTART:20260308T090000
END:DAYLIGHT
BEGIN:STANDARD
TZOFFSETFROM:-0600
TZOFFSETTO:-0700
TZNAME:MST
DTSTART:20261101T080000
END:STANDARD
END:VTIMEZONE
BEGIN:VEVENT
DTSTART;VALUE=DATE:20250217
DTEND;VALUE=DATE:20250218
DTSTAMP:20260419T205029
CREATED:20250131T173501Z
LAST-MODIFIED:20250131T173501Z
UID:1682-1739750400-1739836799@weareboulderstrong.org
SUMMARY:Virtual only
DESCRIPTION:The Boulder Strong Resource Center office will be closed\, but virtual appointments and support are still available. Call us at 303-545-0844 from 10am-5:30pm.
URL:https://weareboulderstrong.org/event/virtual-only-2-17-2025/
LOCATION:CO
END:VEVENT
BEGIN:VEVENT
DTSTART;TZID=America/Denver:20250211T110000
DTEND;TZID=America/Denver:20250211T170000
DTSTAMP:20260419T205029
CREATED:20250131T174106Z
LAST-MODIFIED:20250131T174106Z
UID:1696-1739271600-1739293200@weareboulderstrong.org
SUMMARY:AcuDetox
DESCRIPTION:AcuDetox is a type of acupuncture treatment that is performed on the ears by certified providers. AcuDetox has many proven therapeutic benefits\, come by to learn more or try it out! All appointments are on a walk-in basis.
URL:https://weareboulderstrong.org/event/acudetox-2-11-2025/
LOCATION:BoulderStrong Resource Center\, 2935 Baseline Rd\, Boulder\, CO\, 80303\, United States
END:VEVENT
BEGIN:VEVENT
DTSTART;TZID=America/Denver:20250211T110000
DTEND;TZID=America/Denver:20250211T170000
DTSTAMP:20260419T205029
CREATED:20250131T173825Z
LAST-MODIFIED:20250131T173825Z
UID:1688-1739271600-1739293200@weareboulderstrong.org
SUMMARY:Massage Therapy
DESCRIPTION:Reserve a 30-minute appointment over the phone or with the front desk!
URL:https://weareboulderstrong.org/event/massage-therapy-2-11-2025/
LOCATION:BoulderStrong Resource Center\, 2935 Baseline Rd\, Boulder\, CO\, 80303\, United States
END:VEVENT
BEGIN:VEVENT
DTSTART;VALUE=DATE:20250210
DTEND;VALUE=DATE:20250211
DTSTAMP:20260419T205029
CREATED:20250131T173332Z
LAST-MODIFIED:20250131T173332Z
UID:1680-1739145600-1739231999@weareboulderstrong.org
SUMMARY:Virtual only
DESCRIPTION:The Boulder Strong Resource Center office will be closed\, but virtual appointments and support are still available. Call us at 303-545-0844 from 10am-5:30pm.
URL:https://weareboulderstrong.org/event/virtual-only-2-10-2025/
LOCATION:CO
END:VEVENT
BEGIN:VEVENT
DTSTART;TZID=America/Denver:20250204T110000
DTEND;TZID=America/Denver:20250204T170000
DTSTAMP:20260419T205029
CREATED:20250131T174020Z
LAST-MODIFIED:20250131T174020Z
UID:1694-1738666800-1738688400@weareboulderstrong.org
SUMMARY:AcuDetox
DESCRIPTION:AcuDetox is a type of acupuncture treatment that is performed on the ears by certified providers. AcuDetox has many proven therapeutic benefits\, come by to learn more or try it out! All appointments are on a walk-in basis.
URL:https://weareboulderstrong.org/event/acudetox-2-4-2025/
LOCATION:BoulderStrong Resource Center\, 2935 Baseline Rd\, Boulder\, CO\, 80303\, United States
END:VEVENT
BEGIN:VEVENT
DTSTART;TZID=America/Denver:20250204T110000
DTEND;TZID=America/Denver:20250204T170000
DTSTAMP:20260419T205029
CREATED:20250131T173752Z
LAST-MODIFIED:20250131T173752Z
UID:1686-1738666800-1738688400@weareboulderstrong.org
SUMMARY:Massage Therapy
DESCRIPTION:Reserve a 30-minute appointment over the phone or with the front desk!
URL:https://weareboulderstrong.org/event/massage-therapy-2-4-2025/
LOCATION:BoulderStrong Resource Center\, 2935 Baseline Rd\, Boulder\, CO\, 80303\, United States
END:VEVENT
BEGIN:VEVENT
DTSTART;VALUE=DATE:20250203
DTEND;VALUE=DATE:20250204
DTSTAMP:20260419T205029
CREATED:20250131T173303Z
LAST-MODIFIED:20250131T173303Z
UID:1678-1738540800-1738627199@weareboulderstrong.org
SUMMARY:Virtual only
DESCRIPTION:The Boulder Strong Resource Center office will be closed\, but virtual appointments and support are still available. Call us at 303-545-0844 from 10am-5:30pm.
URL:https://weareboulderstrong.org/event/virtual-only-2-3-2025/
LOCATION:CO
END:VEVENT
BEGIN:VEVENT
DTSTART;TZID=America/Denver:20250129T110000
DTEND;TZID=America/Denver:20250129T161500
DTSTAMP:20260419T205029
CREATED:20241220T180054Z
LAST-MODIFIED:20241220T180054Z
UID:1658-1738148400-1738167300@weareboulderstrong.org
SUMMARY:AcuDetox
DESCRIPTION:AcuDetox is a type of acupuncture treatment that is performed on the ears by certified providers. AcuDetox has many proven therapeutic benefits\, come by to learn more or try it out! All appointments are on a walk-in basis.
URL:https://weareboulderstrong.org/event/acudetox-1-29-2025/
LOCATION:BoulderStrong Resource Center\, 2935 Baseline Rd\, Boulder\, CO\, 80303\, United States
END:VEVENT
BEGIN:VEVENT
DTSTART;TZID=America/Denver:20250129T110000
DTEND;TZID=America/Denver:20250129T161500
DTSTAMP:20260419T205029
CREATED:20241220T175430Z
LAST-MODIFIED:20241220T175430Z
UID:1642-1738148400-1738167300@weareboulderstrong.org
SUMMARY:Massage Therapy
DESCRIPTION:Reserve a 30-minute appointment over the phone or with the front desk!
URL:https://weareboulderstrong.org/event/massage-therapy-1-29-2025/
LOCATION:BoulderStrong Resource Center\, 2935 Baseline Rd\, Boulder\, CO\, 80303\, United States
END:VEVENT
BEGIN:VEVENT
DTSTART;TZID=America/Denver:20250128T110000
DTEND;TZID=America/Denver:20250128T170000
DTSTAMP:20260419T205029
CREATED:20241220T180321Z
LAST-MODIFIED:20241220T180321Z
UID:1666-1738062000-1738083600@weareboulderstrong.org
SUMMARY:AcuDetox
DESCRIPTION:AcuDetox is a type of acupuncture treatment that is performed on the ears by certified providers. AcuDetox has many proven therapeutic benefits\, come by to learn more or try it out! All appointments are on a walk-in basis.
URL:https://weareboulderstrong.org/event/acudetox-1-28-2025/
LOCATION:BoulderStrong Resource Center\, 2935 Baseline Rd\, Boulder\, CO\, 80303\, United States
END:VEVENT
BEGIN:VEVENT
DTSTART;TZID=America/Denver:20250128T110000
DTEND;TZID=America/Denver:20250128T170000
DTSTAMP:20260419T205029
CREATED:20241220T175729Z
LAST-MODIFIED:20241220T175729Z
UID:1650-1738062000-1738083600@weareboulderstrong.org
SUMMARY:Massage Therapy
DESCRIPTION:Reserve a 30-minute appointment over the phone or with the front desk!
URL:https://weareboulderstrong.org/event/massage-therapy-1-28-2025/
LOCATION:BoulderStrong Resource Center\, 2935 Baseline Rd\, Boulder\, CO\, 80303\, United States
END:VEVENT
BEGIN:VEVENT
DTSTART;VALUE=DATE:20250127
DTEND;VALUE=DATE:20250128
DTSTAMP:20260419T205029
CREATED:20241220T175029Z
LAST-MODIFIED:20241220T175029Z
UID:1634-1737936000-1738022399@weareboulderstrong.org
SUMMARY:Virtual only
DESCRIPTION:The Boulder Strong Resource Center office will be closed\, but virtual appointments and support are still available. Call us at 303-545-0844 from 10am-5:30pm.
URL:https://weareboulderstrong.org/event/virtual-only-1-27-2025/
LOCATION:CO
END:VEVENT
BEGIN:VEVENT
DTSTART;TZID=America/Denver:20250121T110000
DTEND;TZID=America/Denver:20250121T170000
DTSTAMP:20260419T205029
CREATED:20241220T180254Z
LAST-MODIFIED:20241220T180254Z
UID:1664-1737457200-1737478800@weareboulderstrong.org
SUMMARY:AcuDetox
DESCRIPTION:AcuDetox is a type of acupuncture treatment that is performed on the ears by certified providers. AcuDetox has many proven therapeutic benefits\, come by to learn more or try it out! All appointments are on a walk-in basis.
URL:https://weareboulderstrong.org/event/acudetox-1-21-2025/
LOCATION:BoulderStrong Resource Center\, 2935 Baseline Rd\, Boulder\, CO\, 80303\, United States
END:VEVENT
BEGIN:VEVENT
DTSTART;TZID=America/Denver:20250121T110000
DTEND;TZID=America/Denver:20250121T170000
DTSTAMP:20260419T205029
CREATED:20241220T175649Z
LAST-MODIFIED:20241220T175649Z
UID:1648-1737457200-1737478800@weareboulderstrong.org
SUMMARY:Massage Therapy
DESCRIPTION:Reserve a 30-minute appointment over the phone or with the front desk!
URL:https://weareboulderstrong.org/event/massage-therapy-1-21-2025/
LOCATION:BoulderStrong Resource Center\, 2935 Baseline Rd\, Boulder\, CO\, 80303\, United States
END:VEVENT
BEGIN:VEVENT
DTSTART;VALUE=DATE:20250120
DTEND;VALUE=DATE:20250121
DTSTAMP:20260419T205029
CREATED:20241220T175001Z
LAST-MODIFIED:20241220T175001Z
UID:1632-1737331200-1737417599@weareboulderstrong.org
SUMMARY:Virtual only
DESCRIPTION:The Boulder Strong Resource Center office will be closed\, but virtual appointments and support are still available. Call us at 303-545-0844 from 10am-5:30pm.
URL:https://weareboulderstrong.org/event/virtual-only-1-20-2025/
LOCATION:CO
END:VEVENT
BEGIN:VEVENT
DTSTART;TZID=America/Denver:20250115T150000
DTEND;TZID=America/Denver:20250115T170000
DTSTAMP:20260419T205029
CREATED:20241220T180432Z
LAST-MODIFIED:20241220T180432Z
UID:1668-1736953200-1736960400@weareboulderstrong.org
SUMMARY:🎬🍕 Za Reels 🍕🎬
DESCRIPTION:Join us for pizza and a movie! And don’t forget to vote for your movie choice.  \n*Za Reelz time is subject to change. Call the center at 303-545-0844 or check in with a staff member.
URL:https://weareboulderstrong.org/event/%f0%9f%8e%ac%f0%9f%8d%95-za-reels-%f0%9f%8d%95%f0%9f%8e%ac-jan-2025/
LOCATION:BoulderStrong Resource Center\, 2935 Baseline Rd\, Boulder\, CO\, 80303\, United States
END:VEVENT
BEGIN:VEVENT
DTSTART;TZID=America/Denver:20250115T110000
DTEND;TZID=America/Denver:20250115T161500
DTSTAMP:20260419T205029
CREATED:20241220T180015Z
LAST-MODIFIED:20241220T180015Z
UID:1656-1736938800-1736957700@weareboulderstrong.org
SUMMARY:AcuDetox
DESCRIPTION:AcuDetox is a type of acupuncture treatment that is performed on the ears by certified providers. AcuDetox has many proven therapeutic benefits\, come by to learn more or try it out! All appointments are on a walk-in basis.
URL:https://weareboulderstrong.org/event/acudetox-1-15-2025/
LOCATION:BoulderStrong Resource Center\, 2935 Baseline Rd\, Boulder\, CO\, 80303\, United States
END:VEVENT
BEGIN:VEVENT
DTSTART;TZID=America/Denver:20250115T110000
DTEND;TZID=America/Denver:20250115T161500
DTSTAMP:20260419T205029
CREATED:20241220T175347Z
LAST-MODIFIED:20241220T175347Z
UID:1640-1736938800-1736957700@weareboulderstrong.org
SUMMARY:Massage Therapy
DESCRIPTION:Reserve a 30-minute appointment over the phone or with the front desk!
URL:https://weareboulderstrong.org/event/massage-therapy-1-15-2025/
LOCATION:BoulderStrong Resource Center\, 2935 Baseline Rd\, Boulder\, CO\, 80303\, United States
END:VEVENT
BEGIN:VEVENT
DTSTART;TZID=America/Denver:20250114T110000
DTEND;TZID=America/Denver:20250114T170000
DTSTAMP:20260419T205029
CREATED:20241220T180220Z
LAST-MODIFIED:20241220T180220Z
UID:1662-1736852400-1736874000@weareboulderstrong.org
SUMMARY:AcuDetox
DESCRIPTION:AcuDetox is a type of acupuncture treatment that is performed on the ears by certified providers. AcuDetox has many proven therapeutic benefits\, come by to learn more or try it out! All appointments are on a walk-in basis.
URL:https://weareboulderstrong.org/event/acudetox-1-14-2025/
LOCATION:BoulderStrong Resource Center\, 2935 Baseline Rd\, Boulder\, CO\, 80303\, United States
END:VEVENT
BEGIN:VEVENT
DTSTART;TZID=America/Denver:20250114T110000
DTEND;TZID=America/Denver:20250114T170000
DTSTAMP:20260419T205029
CREATED:20241220T175556Z
LAST-MODIFIED:20241220T175556Z
UID:1646-1736852400-1736874000@weareboulderstrong.org
SUMMARY:Massage Therapy
DESCRIPTION:Reserve a 30-minute appointment over the phone or with the front desk!
URL:https://weareboulderstrong.org/event/massage-therapy-1-14-2025/
LOCATION:BoulderStrong Resource Center\, 2935 Baseline Rd\, Boulder\, CO\, 80303\, United States
END:VEVENT
BEGIN:VEVENT
DTSTART;VALUE=DATE:20250113
DTEND;VALUE=DATE:20250114
DTSTAMP:20260419T205029
CREATED:20241220T174929Z
LAST-MODIFIED:20241220T174929Z
UID:1630-1736726400-1736812799@weareboulderstrong.org
SUMMARY:Virtual only
DESCRIPTION:The Boulder Strong Resource Center office will be closed\, but virtual appointments and support are still available. Call us at 303-545-0844 from 10am-5:30pm.
URL:https://weareboulderstrong.org/event/virtual-only-1-13-2025/
LOCATION:CO
END:VEVENT
BEGIN:VEVENT
DTSTART;TZID=America/Denver:20250109T110000
DTEND;TZID=America/Denver:20250109T161500
DTSTAMP:20260419T205029
CREATED:20241220T175921Z
LAST-MODIFIED:20241220T175921Z
UID:1654-1736420400-1736439300@weareboulderstrong.org
SUMMARY:AcuDetox
DESCRIPTION:AcuDetox is a type of acupuncture treatment that is performed on the ears by certified providers. AcuDetox has many proven therapeutic benefits\, come by to learn more or try it out! All appointments are on a walk-in basis.
URL:https://weareboulderstrong.org/event/acudetox-1-9-2025/
LOCATION:BoulderStrong Resource Center\, 2935 Baseline Rd\, Boulder\, CO\, 80303\, United States
END:VEVENT
BEGIN:VEVENT
DTSTART;TZID=America/Denver:20250109T110000
DTEND;TZID=America/Denver:20250109T161500
DTSTAMP:20260419T205029
CREATED:20241220T175246Z
LAST-MODIFIED:20241220T175246Z
UID:1638-1736420400-1736439300@weareboulderstrong.org
SUMMARY:Massage Therapy
DESCRIPTION:Reserve a 30-minute appointment over the phone or with the front desk!
URL:https://weareboulderstrong.org/event/massage-therapy-1-9-2025/
LOCATION:BoulderStrong Resource Center\, 2935 Baseline Rd\, Boulder\, CO\, 80303\, United States
END:VEVENT
BEGIN:VEVENT
DTSTART;TZID=America/Denver:20250107T110000
DTEND;TZID=America/Denver:20250107T170000
DTSTAMP:20260419T205029
CREATED:20241220T180139Z
LAST-MODIFIED:20241220T180139Z
UID:1660-1736247600-1736269200@weareboulderstrong.org
SUMMARY:AcuDetox
DESCRIPTION:AcuDetox is a type of acupuncture treatment that is performed on the ears by certified providers. AcuDetox has many proven therapeutic benefits\, come by to learn more or try it out! All appointments are on a walk-in basis.
URL:https://weareboulderstrong.org/event/acudetox-1-7-2025/
LOCATION:BoulderStrong Resource Center\, 2935 Baseline Rd\, Boulder\, CO\, 80303\, United States
END:VEVENT
BEGIN:VEVENT
DTSTART;TZID=America/Denver:20250107T110000
DTEND;TZID=America/Denver:20250107T170000
DTSTAMP:20260419T205029
CREATED:20241220T175522Z
LAST-MODIFIED:20241220T175522Z
UID:1644-1736247600-1736269200@weareboulderstrong.org
SUMMARY:Massage Therapy
DESCRIPTION:Reserve a 30-minute appointment over the phone or with the front desk!
URL:https://weareboulderstrong.org/event/massage-therapy-1-7-2025/
LOCATION:BoulderStrong Resource Center\, 2935 Baseline Rd\, Boulder\, CO\, 80303\, United States
END:VEVENT
BEGIN:VEVENT
DTSTART;VALUE=DATE:20250106
DTEND;VALUE=DATE:20250107
DTSTAMP:20260419T205029
CREATED:20241220T174858Z
LAST-MODIFIED:20241220T174858Z
UID:1628-1736121600-1736207999@weareboulderstrong.org
SUMMARY:Virtual only
DESCRIPTION:The Boulder Strong Resource Center office will be closed\, but virtual appointments and support are still available. Call us at 303-545-0844 from 10am-5:30pm.
URL:https://weareboulderstrong.org/event/virtual-only-1-6-2025/
LOCATION:CO
END:VEVENT
BEGIN:VEVENT
DTSTART;TZID=America/Denver:20250102T110000
DTEND;TZID=America/Denver:20250102T161500
DTSTAMP:20260419T205029
CREATED:20241220T175843Z
LAST-MODIFIED:20241220T175843Z
UID:1652-1735815600-1735834500@weareboulderstrong.org
SUMMARY:AcuDetox
DESCRIPTION:AcuDetox is a type of acupuncture treatment that is performed on the ears by certified providers. AcuDetox has many proven therapeutic benefits\, come by to learn more or try it out! All appointments are on a walk-in basis.
URL:https://weareboulderstrong.org/event/acudetox-1-2-2025/
LOCATION:BoulderStrong Resource Center\, 2935 Baseline Rd\, Boulder\, CO\, 80303\, United States
END:VEVENT
BEGIN:VEVENT
DTSTART;TZID=America/Denver:20250102T110000
DTEND;TZID=America/Denver:20250102T161500
DTSTAMP:20260419T205029
CREATED:20241220T175201Z
LAST-MODIFIED:20241220T175207Z
UID:1636-1735815600-1735834500@weareboulderstrong.org
SUMMARY:Massage Therapy
DESCRIPTION:Reserve a 30-minute appointment over the phone or with the front desk!
URL:https://weareboulderstrong.org/event/massage-therapy-1-2-2025/
LOCATION:BoulderStrong Resource Center\, 2935 Baseline Rd\, Boulder\, CO\, 80303\, United States
END:VEVENT
BEGIN:VEVENT
DTSTART;VALUE=DATE:20250101
DTEND;VALUE=DATE:20250102
DTSTAMP:20260419T205029
CREATED:20241203T181918Z
LAST-MODIFIED:20241203T181918Z
UID:1614-1735689600-1735775999@weareboulderstrong.org
SUMMARY:BSRC closed
DESCRIPTION:
URL:https://weareboulderstrong.org/event/bsrc-closed-1-1-2025/
LOCATION:CO
END:VEVENT
BEGIN:VEVENT
DTSTART;VALUE=DATE:20241231
DTEND;VALUE=DATE:20250101
DTSTAMP:20260419T205029
CREATED:20241203T182622Z
LAST-MODIFIED:20241203T182622Z
UID:1625-1735603200-1735689599@weareboulderstrong.org
SUMMARY:Virtual only
DESCRIPTION:The Boulder Strong Resource Center office will be closed\, but virtual appointments and support are still available. Call us at 303-545-0844 from 10am-5:30pm.
URL:https://weareboulderstrong.org/event/virtual-12-31-2024/
LOCATION:CO
END:VEVENT
END:VCALENDAR