BEGIN:VCALENDAR
VERSION:2.0
PRODID:-//#BoulderStrong Resource Center - ECPv6.15.20//NONSGML v1.0//EN
CALSCALE:GREGORIAN
METHOD:PUBLISH
X-WR-CALNAME:#BoulderStrong Resource Center
X-ORIGINAL-URL:https://weareboulderstrong.org
X-WR-CALDESC:Events for #BoulderStrong Resource Center
REFRESH-INTERVAL;VALUE=DURATION:PT1H
X-Robots-Tag:noindex
X-PUBLISHED-TTL:PT1H
BEGIN:VTIMEZONE
TZID:America/Denver
BEGIN:DAYLIGHT
TZOFFSETFROM:-0700
TZOFFSETTO:-0600
TZNAME:MDT
DTSTART:20240310T090000
END:DAYLIGHT
BEGIN:STANDARD
TZOFFSETFROM:-0600
TZOFFSETTO:-0700
TZNAME:MST
DTSTART:20241103T080000
END:STANDARD
BEGIN:DAYLIGHT
TZOFFSETFROM:-0700
TZOFFSETTO:-0600
TZNAME:MDT
DTSTART:20250309T090000
END:DAYLIGHT
BEGIN:STANDARD
TZOFFSETFROM:-0600
TZOFFSETTO:-0700
TZNAME:MST
DTSTART:20251102T080000
END:STANDARD
BEGIN:DAYLIGHT
TZOFFSETFROM:-0700
TZOFFSETTO:-0600
TZNAME:MDT
DTSTART:20260308T090000
END:DAYLIGHT
BEGIN:STANDARD
TZOFFSETFROM:-0600
TZOFFSETTO:-0700
TZNAME:MST
DTSTART:20261101T080000
END:STANDARD
END:VTIMEZONE
BEGIN:VEVENT
DTSTART;VALUE=DATE:20250324
DTEND;VALUE=DATE:20250325
DTSTAMP:20260420T004709
CREATED:20250221T211026Z
LAST-MODIFIED:20250221T211026Z
UID:1728-1742774400-1742860799@weareboulderstrong.org
SUMMARY:Virtual only
DESCRIPTION:The Boulder Strong Resource Center office will be closed\, but virtual appointments and support are still available. Call us at 303-545-0844 from 10am-5:30pm.
URL:https://weareboulderstrong.org/event/virtual-only-3-24-2025/
LOCATION:CO
END:VEVENT
BEGIN:VEVENT
DTSTART;TZID=America/Denver:20250322T140000
DTEND;TZID=America/Denver:20250322T140000
DTSTAMP:20260420T004709
CREATED:20250221T212541Z
LAST-MODIFIED:20250305T170244Z
UID:1752-1742652000-1742652000@weareboulderstrong.org
SUMMARY:Day of Remembrance
DESCRIPTION:On March 22\, 2025\, the City of Boulder\, the Boulder Strong Resource Center\, and other community partners will hold a Day of Remembrance event to honor the victims of the March 22\, 2021 mass shooting in Boulder. All are welcome to join us in person as we remember those who are no longer with us\, offer support to one another and come together as a community. \n\nWhen: March 22 at 2 p.m. Doors open at 1:30 p.m.\nWhere: The Museum of Boulder\, 2205 Broadway\, Boulder\, CO\nCost: The event is free and open to the public\n\n\n\n\n\n\n\n\n\n\n\n\n\n\n\nVisit bouldercolorado.gov or download this flyer for more details.
URL:https://weareboulderstrong.org/event/day-of-remembrance-2025/
LOCATION:The Museum of Boulder\, 2205 Broadway\, Boulder\, CO\, United States
ATTACH;FMTTYPE=image/png:https://weareboulderstrong.org/wp-content/uploads/boulder-strong-2025-header-english.png
END:VEVENT
BEGIN:VEVENT
DTSTART;TZID=America/Denver:20250320T110000
DTEND;TZID=America/Denver:20250320T170000
DTSTAMP:20260420T004709
CREATED:20250221T212052Z
LAST-MODIFIED:20250221T212052Z
UID:1746-1742468400-1742490000@weareboulderstrong.org
SUMMARY:AcuDetox
DESCRIPTION:AcuDetox is a type of acupuncture treatment that is performed on the ears by certified providers. AcuDetox has many proven therapeutic benefits\, come by to learn more or try it out! All appointments are on a walk-in basis.
URL:https://weareboulderstrong.org/event/acudetox-3-20-2025/
LOCATION:BoulderStrong Resource Center\, 2935 Baseline Rd\, Boulder\, CO\, 80303\, United States
END:VEVENT
BEGIN:VEVENT
DTSTART;TZID=America/Denver:20250320T110000
DTEND;TZID=America/Denver:20250320T170000
DTSTAMP:20260420T004709
CREATED:20250221T211654Z
LAST-MODIFIED:20250221T211654Z
UID:1738-1742468400-1742490000@weareboulderstrong.org
SUMMARY:Massage Therapy
DESCRIPTION:Reserve a 30-minute appointment over the phone or with the front desk!
URL:https://weareboulderstrong.org/event/massage-therapy-3-20-2025/
LOCATION:BoulderStrong Resource Center\, 2935 Baseline Rd\, Boulder\, CO\, 80303\, United States
END:VEVENT
BEGIN:VEVENT
DTSTART;TZID=America/Denver:20250318T150000
DTEND;TZID=America/Denver:20250318T170000
DTSTAMP:20260420T004709
CREATED:20250221T212228Z
LAST-MODIFIED:20250221T212228Z
UID:1750-1742310000-1742317200@weareboulderstrong.org
SUMMARY:🎬🍕 Za Reels 🍕🎬
DESCRIPTION:Join us for pizza and a movie! And don’t forget to vote for your movie choice.  \n*Za Reelz time is subject to change. Call the center at 303-545-0844 or check in with a staff member.
URL:https://weareboulderstrong.org/event/%f0%9f%8e%ac%f0%9f%8d%95-za-reels-%f0%9f%8d%95%f0%9f%8e%ac-march-2025/
LOCATION:BoulderStrong Resource Center\, 2935 Baseline Rd\, Boulder\, CO\, 80303\, United States
END:VEVENT
BEGIN:VEVENT
DTSTART;TZID=America/Denver:20250318T110000
DTEND;TZID=America/Denver:20250318T170000
DTSTAMP:20260420T004709
CREATED:20250221T212018Z
LAST-MODIFIED:20250221T212018Z
UID:1744-1742295600-1742317200@weareboulderstrong.org
SUMMARY:AcuDetox
DESCRIPTION:AcuDetox is a type of acupuncture treatment that is performed on the ears by certified providers. AcuDetox has many proven therapeutic benefits\, come by to learn more or try it out! All appointments are on a walk-in basis.
URL:https://weareboulderstrong.org/event/acudetox-3-18-2025/
LOCATION:BoulderStrong Resource Center\, 2935 Baseline Rd\, Boulder\, CO\, 80303\, United States
END:VEVENT
BEGIN:VEVENT
DTSTART;TZID=America/Denver:20250318T110000
DTEND;TZID=America/Denver:20250318T170000
DTSTAMP:20260420T004709
CREATED:20250221T211529Z
LAST-MODIFIED:20250221T211529Z
UID:1734-1742295600-1742317200@weareboulderstrong.org
SUMMARY:Massage Therapy
DESCRIPTION:Reserve a 30-minute appointment over the phone or with the front desk!
URL:https://weareboulderstrong.org/event/massage-therapy-3-18-2025/
LOCATION:BoulderStrong Resource Center\, 2935 Baseline Rd\, Boulder\, CO\, 80303\, United States
END:VEVENT
BEGIN:VEVENT
DTSTART;VALUE=DATE:20250317
DTEND;VALUE=DATE:20250318
DTSTAMP:20260420T004709
CREATED:20250221T210944Z
LAST-MODIFIED:20250221T210944Z
UID:1726-1742169600-1742255999@weareboulderstrong.org
SUMMARY:Virtual only
DESCRIPTION:The Boulder Strong Resource Center office will be closed\, but virtual appointments and support are still available. Call us at 303-545-0844 from 10am-5:30pm.
URL:https://weareboulderstrong.org/event/virtual-only-3-17-2025/
LOCATION:CO
END:VEVENT
BEGIN:VEVENT
DTSTART;TZID=America/Denver:20250311T110000
DTEND;TZID=America/Denver:20250311T170000
DTSTAMP:20260420T004709
CREATED:20250221T211946Z
LAST-MODIFIED:20250221T211946Z
UID:1742-1741690800-1741712400@weareboulderstrong.org
SUMMARY:AcuDetox
DESCRIPTION:AcuDetox is a type of acupuncture treatment that is performed on the ears by certified providers. AcuDetox has many proven therapeutic benefits\, come by to learn more or try it out! All appointments are on a walk-in basis.
URL:https://weareboulderstrong.org/event/acudetox-3-11-2025/
LOCATION:BoulderStrong Resource Center\, 2935 Baseline Rd\, Boulder\, CO\, 80303\, United States
END:VEVENT
BEGIN:VEVENT
DTSTART;TZID=America/Denver:20250311T110000
DTEND;TZID=America/Denver:20250311T170000
DTSTAMP:20260420T004709
CREATED:20250221T211500Z
LAST-MODIFIED:20250221T211500Z
UID:1732-1741690800-1741712400@weareboulderstrong.org
SUMMARY:Massage Therapy
DESCRIPTION:Reserve a 30-minute appointment over the phone or with the front desk!
URL:https://weareboulderstrong.org/event/massage-therapy-3-11-2025/
LOCATION:BoulderStrong Resource Center\, 2935 Baseline Rd\, Boulder\, CO\, 80303\, United States
END:VEVENT
BEGIN:VEVENT
DTSTART;VALUE=DATE:20250310
DTEND;VALUE=DATE:20250311
DTSTAMP:20260420T004709
CREATED:20250221T210916Z
LAST-MODIFIED:20250221T210916Z
UID:1724-1741564800-1741651199@weareboulderstrong.org
SUMMARY:Virtual only
DESCRIPTION:The Boulder Strong Resource Center office will be closed\, but virtual appointments and support are still available. Call us at 303-545-0844 from 10am-5:30pm.
URL:https://weareboulderstrong.org/event/virtual-only-3-10-2025/
LOCATION:CO
END:VEVENT
BEGIN:VEVENT
DTSTART;TZID=America/Denver:20250304T110000
DTEND;TZID=America/Denver:20250304T170000
DTSTAMP:20260420T004709
CREATED:20250221T211910Z
LAST-MODIFIED:20250221T211910Z
UID:1740-1741086000-1741107600@weareboulderstrong.org
SUMMARY:AcuDetox
DESCRIPTION:AcuDetox is a type of acupuncture treatment that is performed on the ears by certified providers. AcuDetox has many proven therapeutic benefits\, come by to learn more or try it out! All appointments are on a walk-in basis.
URL:https://weareboulderstrong.org/event/acudetox-3-4-2025/
LOCATION:BoulderStrong Resource Center\, 2935 Baseline Rd\, Boulder\, CO\, 80303\, United States
END:VEVENT
BEGIN:VEVENT
DTSTART;TZID=America/Denver:20250304T110000
DTEND;TZID=America/Denver:20250304T170000
DTSTAMP:20260420T004709
CREATED:20250221T211404Z
LAST-MODIFIED:20250221T211404Z
UID:1730-1741086000-1741107600@weareboulderstrong.org
SUMMARY:Massage Therapy
DESCRIPTION:Reserve a 30-minute appointment over the phone or with the front desk!
URL:https://weareboulderstrong.org/event/massage-therapy-3-4-2025/
LOCATION:BoulderStrong Resource Center\, 2935 Baseline Rd\, Boulder\, CO\, 80303\, United States
END:VEVENT
BEGIN:VEVENT
DTSTART;VALUE=DATE:20250303
DTEND;VALUE=DATE:20250304
DTSTAMP:20260420T004709
CREATED:20250221T210848Z
LAST-MODIFIED:20250221T210848Z
UID:1722-1740960000-1741046399@weareboulderstrong.org
SUMMARY:Virtual only
DESCRIPTION:The Boulder Strong Resource Center office will be closed\, but virtual appointments and support are still available. Call us at 303-545-0844 from 10am-5:30pm.
URL:https://weareboulderstrong.org/event/virtual-only-3-3-2025/
LOCATION:CO
END:VEVENT
BEGIN:VEVENT
DTSTART;TZID=America/Denver:20250225T110000
DTEND;TZID=America/Denver:20250225T170000
DTSTAMP:20260420T004709
CREATED:20250131T174207Z
LAST-MODIFIED:20250131T174207Z
UID:1700-1740481200-1740502800@weareboulderstrong.org
SUMMARY:AcuDetox
DESCRIPTION:AcuDetox is a type of acupuncture treatment that is performed on the ears by certified providers. AcuDetox has many proven therapeutic benefits\, come by to learn more or try it out! All appointments are on a walk-in basis.
URL:https://weareboulderstrong.org/event/acudetox-2-25-2025/
LOCATION:BoulderStrong Resource Center\, 2935 Baseline Rd\, Boulder\, CO\, 80303\, United States
END:VEVENT
BEGIN:VEVENT
DTSTART;TZID=America/Denver:20250225T110000
DTEND;TZID=America/Denver:20250225T170000
DTSTAMP:20260420T004709
CREATED:20250131T173924Z
LAST-MODIFIED:20250131T173924Z
UID:1692-1740481200-1740502800@weareboulderstrong.org
SUMMARY:Massage Therapy
DESCRIPTION:Reserve a 30-minute appointment over the phone or with the front desk!
URL:https://weareboulderstrong.org/event/massage-therapy-2-25-2025/
LOCATION:BoulderStrong Resource Center\, 2935 Baseline Rd\, Boulder\, CO\, 80303\, United States
END:VEVENT
BEGIN:VEVENT
DTSTART;VALUE=DATE:20250224
DTEND;VALUE=DATE:20250225
DTSTAMP:20260420T004709
CREATED:20250131T173531Z
LAST-MODIFIED:20250131T173531Z
UID:1684-1740355200-1740441599@weareboulderstrong.org
SUMMARY:Virtual only
DESCRIPTION:The Boulder Strong Resource Center office will be closed\, but virtual appointments and support are still available. Call us at 303-545-0844 from 10am-5:30pm.
URL:https://weareboulderstrong.org/event/virtual-only-2-24-2025/
LOCATION:CO
END:VEVENT
BEGIN:VEVENT
DTSTART;TZID=America/Denver:20250218T150000
DTEND;TZID=America/Denver:20250218T170000
DTSTAMP:20260420T004709
CREATED:20250131T174331Z
LAST-MODIFIED:20250131T174331Z
UID:1702-1739890800-1739898000@weareboulderstrong.org
SUMMARY:🎬🍕 Za Reels 🍕🎬
DESCRIPTION:Join us for pizza and a movie! And don’t forget to vote for your movie choice.  \n*Za Reelz time is subject to change. Call the center at 303-545-0844 or check in with a staff member.
URL:https://weareboulderstrong.org/event/%f0%9f%8e%ac%f0%9f%8d%95-za-reels-%f0%9f%8d%95%f0%9f%8e%ac-2-18-2025/
LOCATION:BoulderStrong Resource Center\, 2935 Baseline Rd\, Boulder\, CO\, 80303\, United States
END:VEVENT
BEGIN:VEVENT
DTSTART;TZID=America/Denver:20250218T110000
DTEND;TZID=America/Denver:20250218T170000
DTSTAMP:20260420T004709
CREATED:20250131T174134Z
LAST-MODIFIED:20250131T174134Z
UID:1698-1739876400-1739898000@weareboulderstrong.org
SUMMARY:AcuDetox
DESCRIPTION:AcuDetox is a type of acupuncture treatment that is performed on the ears by certified providers. AcuDetox has many proven therapeutic benefits\, come by to learn more or try it out! All appointments are on a walk-in basis.
URL:https://weareboulderstrong.org/event/acudetox-2-18-2025/
LOCATION:BoulderStrong Resource Center\, 2935 Baseline Rd\, Boulder\, CO\, 80303\, United States
END:VEVENT
BEGIN:VEVENT
DTSTART;TZID=America/Denver:20250218T110000
DTEND;TZID=America/Denver:20250218T170000
DTSTAMP:20260420T004709
CREATED:20250131T173857Z
LAST-MODIFIED:20250131T173857Z
UID:1690-1739876400-1739898000@weareboulderstrong.org
SUMMARY:Massage Therapy
DESCRIPTION:Reserve a 30-minute appointment over the phone or with the front desk!
URL:https://weareboulderstrong.org/event/massage-therapy-2-18-2025/
LOCATION:BoulderStrong Resource Center\, 2935 Baseline Rd\, Boulder\, CO\, 80303\, United States
END:VEVENT
BEGIN:VEVENT
DTSTART;VALUE=DATE:20250217
DTEND;VALUE=DATE:20250218
DTSTAMP:20260420T004709
CREATED:20250131T173501Z
LAST-MODIFIED:20250131T173501Z
UID:1682-1739750400-1739836799@weareboulderstrong.org
SUMMARY:Virtual only
DESCRIPTION:The Boulder Strong Resource Center office will be closed\, but virtual appointments and support are still available. Call us at 303-545-0844 from 10am-5:30pm.
URL:https://weareboulderstrong.org/event/virtual-only-2-17-2025/
LOCATION:CO
END:VEVENT
BEGIN:VEVENT
DTSTART;TZID=America/Denver:20250211T110000
DTEND;TZID=America/Denver:20250211T170000
DTSTAMP:20260420T004709
CREATED:20250131T174106Z
LAST-MODIFIED:20250131T174106Z
UID:1696-1739271600-1739293200@weareboulderstrong.org
SUMMARY:AcuDetox
DESCRIPTION:AcuDetox is a type of acupuncture treatment that is performed on the ears by certified providers. AcuDetox has many proven therapeutic benefits\, come by to learn more or try it out! All appointments are on a walk-in basis.
URL:https://weareboulderstrong.org/event/acudetox-2-11-2025/
LOCATION:BoulderStrong Resource Center\, 2935 Baseline Rd\, Boulder\, CO\, 80303\, United States
END:VEVENT
BEGIN:VEVENT
DTSTART;TZID=America/Denver:20250211T110000
DTEND;TZID=America/Denver:20250211T170000
DTSTAMP:20260420T004709
CREATED:20250131T173825Z
LAST-MODIFIED:20250131T173825Z
UID:1688-1739271600-1739293200@weareboulderstrong.org
SUMMARY:Massage Therapy
DESCRIPTION:Reserve a 30-minute appointment over the phone or with the front desk!
URL:https://weareboulderstrong.org/event/massage-therapy-2-11-2025/
LOCATION:BoulderStrong Resource Center\, 2935 Baseline Rd\, Boulder\, CO\, 80303\, United States
END:VEVENT
BEGIN:VEVENT
DTSTART;VALUE=DATE:20250210
DTEND;VALUE=DATE:20250211
DTSTAMP:20260420T004709
CREATED:20250131T173332Z
LAST-MODIFIED:20250131T173332Z
UID:1680-1739145600-1739231999@weareboulderstrong.org
SUMMARY:Virtual only
DESCRIPTION:The Boulder Strong Resource Center office will be closed\, but virtual appointments and support are still available. Call us at 303-545-0844 from 10am-5:30pm.
URL:https://weareboulderstrong.org/event/virtual-only-2-10-2025/
LOCATION:CO
END:VEVENT
BEGIN:VEVENT
DTSTART;TZID=America/Denver:20250204T110000
DTEND;TZID=America/Denver:20250204T170000
DTSTAMP:20260420T004709
CREATED:20250131T174020Z
LAST-MODIFIED:20250131T174020Z
UID:1694-1738666800-1738688400@weareboulderstrong.org
SUMMARY:AcuDetox
DESCRIPTION:AcuDetox is a type of acupuncture treatment that is performed on the ears by certified providers. AcuDetox has many proven therapeutic benefits\, come by to learn more or try it out! All appointments are on a walk-in basis.
URL:https://weareboulderstrong.org/event/acudetox-2-4-2025/
LOCATION:BoulderStrong Resource Center\, 2935 Baseline Rd\, Boulder\, CO\, 80303\, United States
END:VEVENT
BEGIN:VEVENT
DTSTART;TZID=America/Denver:20250204T110000
DTEND;TZID=America/Denver:20250204T170000
DTSTAMP:20260420T004709
CREATED:20250131T173752Z
LAST-MODIFIED:20250131T173752Z
UID:1686-1738666800-1738688400@weareboulderstrong.org
SUMMARY:Massage Therapy
DESCRIPTION:Reserve a 30-minute appointment over the phone or with the front desk!
URL:https://weareboulderstrong.org/event/massage-therapy-2-4-2025/
LOCATION:BoulderStrong Resource Center\, 2935 Baseline Rd\, Boulder\, CO\, 80303\, United States
END:VEVENT
BEGIN:VEVENT
DTSTART;VALUE=DATE:20250203
DTEND;VALUE=DATE:20250204
DTSTAMP:20260420T004709
CREATED:20250131T173303Z
LAST-MODIFIED:20250131T173303Z
UID:1678-1738540800-1738627199@weareboulderstrong.org
SUMMARY:Virtual only
DESCRIPTION:The Boulder Strong Resource Center office will be closed\, but virtual appointments and support are still available. Call us at 303-545-0844 from 10am-5:30pm.
URL:https://weareboulderstrong.org/event/virtual-only-2-3-2025/
LOCATION:CO
END:VEVENT
BEGIN:VEVENT
DTSTART;TZID=America/Denver:20250129T110000
DTEND;TZID=America/Denver:20250129T161500
DTSTAMP:20260420T004709
CREATED:20241220T180054Z
LAST-MODIFIED:20241220T180054Z
UID:1658-1738148400-1738167300@weareboulderstrong.org
SUMMARY:AcuDetox
DESCRIPTION:AcuDetox is a type of acupuncture treatment that is performed on the ears by certified providers. AcuDetox has many proven therapeutic benefits\, come by to learn more or try it out! All appointments are on a walk-in basis.
URL:https://weareboulderstrong.org/event/acudetox-1-29-2025/
LOCATION:BoulderStrong Resource Center\, 2935 Baseline Rd\, Boulder\, CO\, 80303\, United States
END:VEVENT
BEGIN:VEVENT
DTSTART;TZID=America/Denver:20250129T110000
DTEND;TZID=America/Denver:20250129T161500
DTSTAMP:20260420T004709
CREATED:20241220T175430Z
LAST-MODIFIED:20241220T175430Z
UID:1642-1738148400-1738167300@weareboulderstrong.org
SUMMARY:Massage Therapy
DESCRIPTION:Reserve a 30-minute appointment over the phone or with the front desk!
URL:https://weareboulderstrong.org/event/massage-therapy-1-29-2025/
LOCATION:BoulderStrong Resource Center\, 2935 Baseline Rd\, Boulder\, CO\, 80303\, United States
END:VEVENT
BEGIN:VEVENT
DTSTART;TZID=America/Denver:20250128T110000
DTEND;TZID=America/Denver:20250128T170000
DTSTAMP:20260420T004709
CREATED:20241220T180321Z
LAST-MODIFIED:20241220T180321Z
UID:1666-1738062000-1738083600@weareboulderstrong.org
SUMMARY:AcuDetox
DESCRIPTION:AcuDetox is a type of acupuncture treatment that is performed on the ears by certified providers. AcuDetox has many proven therapeutic benefits\, come by to learn more or try it out! All appointments are on a walk-in basis.
URL:https://weareboulderstrong.org/event/acudetox-1-28-2025/
LOCATION:BoulderStrong Resource Center\, 2935 Baseline Rd\, Boulder\, CO\, 80303\, United States
END:VEVENT
END:VCALENDAR