BEGIN:VCALENDAR
VERSION:2.0
PRODID:-//#BoulderStrong Resource Center - ECPv6.15.20//NONSGML v1.0//EN
CALSCALE:GREGORIAN
METHOD:PUBLISH
X-WR-CALNAME:#BoulderStrong Resource Center
X-ORIGINAL-URL:https://weareboulderstrong.org
X-WR-CALDESC:Events for #BoulderStrong Resource Center
REFRESH-INTERVAL;VALUE=DURATION:PT1H
X-Robots-Tag:noindex
X-PUBLISHED-TTL:PT1H
BEGIN:VTIMEZONE
TZID:America/Denver
BEGIN:DAYLIGHT
TZOFFSETFROM:-0700
TZOFFSETTO:-0600
TZNAME:MDT
DTSTART:20220313T090000
END:DAYLIGHT
BEGIN:STANDARD
TZOFFSETFROM:-0600
TZOFFSETTO:-0700
TZNAME:MST
DTSTART:20221106T080000
END:STANDARD
BEGIN:DAYLIGHT
TZOFFSETFROM:-0700
TZOFFSETTO:-0600
TZNAME:MDT
DTSTART:20230312T090000
END:DAYLIGHT
BEGIN:STANDARD
TZOFFSETFROM:-0600
TZOFFSETTO:-0700
TZNAME:MST
DTSTART:20231105T080000
END:STANDARD
BEGIN:DAYLIGHT
TZOFFSETFROM:-0700
TZOFFSETTO:-0600
TZNAME:MDT
DTSTART:20240310T090000
END:DAYLIGHT
BEGIN:STANDARD
TZOFFSETFROM:-0600
TZOFFSETTO:-0700
TZNAME:MST
DTSTART:20241103T080000
END:STANDARD
END:VTIMEZONE
BEGIN:VEVENT
DTSTART;TZID=America/Denver:20230802T143000
DTEND;TZID=America/Denver:20230802T160000
DTSTAMP:20260421T062947
CREATED:20230721T213236Z
LAST-MODIFIED:20230721T213236Z
UID:1315-1690986600-1690992000@weareboulderstrong.org
SUMMARY:Art Journaling Group
DESCRIPTION:An art journal is a visual diary; it is completely customizable and often combines elements of writing\, drawing\, painting\, and collage. Art journaling as a self-care practice can support your healing\, growth\, and wellness. The BSRC provides supplies\, including a blank journal\, to all participants. During meetings\, a suggested prompt is provided\, along with ample time for artistic expression. We hope to see you there!
URL:https://weareboulderstrong.org/event/art-journaling-group-16/
LOCATION:BoulderStrong Resource Center\, 2935 Baseline Rd\, Boulder\, CO\, 80303\, United States
END:VEVENT
BEGIN:VEVENT
DTSTART;TZID=America/Denver:20230801T160000
DTEND;TZID=America/Denver:20230801T170000
DTSTAMP:20260421T062947
CREATED:20230726T162340Z
LAST-MODIFIED:20230726T163655Z
UID:1327-1690905600-1690909200@weareboulderstrong.org
SUMMARY:The Written Expression
DESCRIPTION:Open drop-in Creative Writing Group. Creative writing has a ton of mental health benefits including self-expression\, thought management\, and emotional regulation. Come join in and don’t worry\, all writing may be kept personal\, nothing has to be shared! Journals & Pens provided.
URL:https://weareboulderstrong.org/event/the-written-expression-10/
LOCATION:BoulderStrong Resource Center\, 2935 Baseline Rd\, Boulder\, CO\, 80303\, United States
END:VEVENT
BEGIN:VEVENT
DTSTART;VALUE=DATE:20230808
DTEND;VALUE=DATE:20230809
DTSTAMP:20260421T062947
CREATED:20230721T214423Z
LAST-MODIFIED:20230724T191144Z
UID:1318-1691452800-1691539199@weareboulderstrong.org
SUMMARY:🖌💚 Take Care Tuesday: Outside Water Painting 🖌💚
DESCRIPTION:Take Care Tuesday is an event we host every 2nd Tuesday of the month. While practicing self-care is important every day\, Take-Care Tuesday is about going a step further and spending some extra time on you! \nThis month’s Take Care Tuesday event: Let’s take to the outside\, pails of water and paintbrushes in hand\, to paint dry surfaces\, such as concrete\, with water. Besides being a fun activity on a hot summer day\, water painting engages us in a here-and-now creative process\, rather than working toward an end goal\, or finished product. As we paint lines and shapes with water\, we can then observe our creations dry and completely evaporate.
URL:https://weareboulderstrong.org/event/take-care-tuesday-outside-water-painting-%f0%9f%96%8c%f0%9f%92%9a/
LOCATION:BoulderStrong Resource Center\, 2935 Baseline Rd\, Boulder\, CO\, 80303\, United States
END:VEVENT
BEGIN:VEVENT
DTSTART;TZID=America/Denver:20230804T150000
DTEND;TZID=America/Denver:20230804T160000
DTSTAMP:20260421T062947
CREATED:20230721T212631Z
LAST-MODIFIED:20230724T191030Z
UID:1312-1691161200-1691164800@weareboulderstrong.org
SUMMARY:Stretching & Breathing
DESCRIPTION:A gentle stretching and breathing group that aids in grounding and emotional regulation. All ability levels welcome!
URL:https://weareboulderstrong.org/event/stretching-breathing/
LOCATION:BoulderStrong Resource Center\, 2935 Baseline Rd\, Boulder\, CO\, 80303\, United States
END:VEVENT
BEGIN:VEVENT
DTSTART;TZID=America/Denver:20230803T123000
DTEND;TZID=America/Denver:20230803T133000
DTSTAMP:20260421T062947
CREATED:20230726T163608Z
LAST-MODIFIED:20230726T163608Z
UID:1330-1691065800-1691069400@weareboulderstrong.org
SUMMARY:Meditative Minds
DESCRIPTION:This is a DBT skills-based group that combines mindfulness concepts with an experiential meditation practice. All ability levels are welcome!
URL:https://weareboulderstrong.org/event/meditative-minds-13/
LOCATION:BoulderStrong Resource Center\, 2935 Baseline Rd\, Boulder\, CO\, 80303\, United States
END:VEVENT
BEGIN:VEVENT
DTSTART;TZID=America/Denver:20230802T143000
DTEND;TZID=America/Denver:20230802T160000
DTSTAMP:20260421T062947
CREATED:20230721T213236Z
LAST-MODIFIED:20230721T213236Z
UID:1315-1690986600-1690992000@weareboulderstrong.org
SUMMARY:Art Journaling Group
DESCRIPTION:An art journal is a visual diary; it is completely customizable and often combines elements of writing\, drawing\, painting\, and collage. Art journaling as a self-care practice can support your healing\, growth\, and wellness. The BSRC provides supplies\, including a blank journal\, to all participants. During meetings\, a suggested prompt is provided\, along with ample time for artistic expression. We hope to see you there!
URL:https://weareboulderstrong.org/event/art-journaling-group-16/
LOCATION:BoulderStrong Resource Center\, 2935 Baseline Rd\, Boulder\, CO\, 80303\, United States
END:VEVENT
BEGIN:VEVENT
DTSTART;TZID=America/Denver:20230801T160000
DTEND;TZID=America/Denver:20230801T170000
DTSTAMP:20260421T062947
CREATED:20230726T162340Z
LAST-MODIFIED:20230726T163655Z
UID:1327-1690905600-1690909200@weareboulderstrong.org
SUMMARY:The Written Expression
DESCRIPTION:Open drop-in Creative Writing Group. Creative writing has a ton of mental health benefits including self-expression\, thought management\, and emotional regulation. Come join in and don’t worry\, all writing may be kept personal\, nothing has to be shared! Journals & Pens provided.
URL:https://weareboulderstrong.org/event/the-written-expression-10/
LOCATION:BoulderStrong Resource Center\, 2935 Baseline Rd\, Boulder\, CO\, 80303\, United States
END:VEVENT
BEGIN:VEVENT
DTSTART;TZID=America/Denver:20230728T150000
DTEND;TZID=America/Denver:20230728T160000
DTSTAMP:20260421T062947
CREATED:20230511T204831Z
LAST-MODIFIED:20230511T204831Z
UID:1191-1690556400-1690560000@weareboulderstrong.org
SUMMARY:Melodic Healing
DESCRIPTION:This is a group for both music lovers and musicians to come together\, share their passion for music\, and discover how it can be used as a powerful tool to cope with emotional distress.
URL:https://weareboulderstrong.org/event/melodic-healing-9/
LOCATION:BoulderStrong Resource Center\, 2935 Baseline Rd\, Boulder\, CO\, 80303\, United States
END:VEVENT
BEGIN:VEVENT
DTSTART;TZID=America/Denver:20230727T160000
DTEND;TZID=America/Denver:20230727T173000
DTSTAMP:20260421T062947
CREATED:20230511T171356Z
LAST-MODIFIED:20230511T171356Z
UID:1093-1690473600-1690479000@weareboulderstrong.org
SUMMARY:Za Reels 🍕🎬
DESCRIPTION:Join us for pizza and a movie every 4th Thursday of the month from 4:00-5:30pm! 🍕🎬
URL:https://weareboulderstrong.org/event/za-reels-%f0%9f%8d%95%f0%9f%8e%ac/
LOCATION:BoulderStrong Resource Center\, 2935 Baseline Rd\, Boulder\, CO\, 80303\, United States
END:VEVENT
BEGIN:VEVENT
DTSTART;TZID=America/Denver:20230727T123000
DTEND;TZID=America/Denver:20230727T130000
DTSTAMP:20260421T062947
CREATED:20230511T204624Z
LAST-MODIFIED:20230511T204624Z
UID:1183-1690461000-1690462800@weareboulderstrong.org
SUMMARY:Meditative Minds
DESCRIPTION:This is a DBT skills-based group that combines mindfulness concepts with an experiential meditation practice. All ability levels are welcome! \n  \n 
URL:https://weareboulderstrong.org/event/meditative-minds-9/
LOCATION:BoulderStrong Resource Center\, 2935 Baseline Rd\, Boulder\, CO\, 80303\, United States
END:VEVENT
BEGIN:VEVENT
DTSTART;TZID=America/Denver:20230727T103000
DTEND;TZID=America/Denver:20230727T170000
DTSTAMP:20260421T062947
CREATED:20230511T212220Z
LAST-MODIFIED:20230601T215820Z
UID:1237-1690453800-1690477200@weareboulderstrong.org
SUMMARY:Massage Therapy
DESCRIPTION:Reserve a 30 minute appointment with the front desk!
URL:https://weareboulderstrong.org/event/massage-therapy-30/
LOCATION:BoulderStrong Resource Center\, 2935 Baseline Rd\, Boulder\, CO\, 80303\, United States
END:VEVENT
BEGIN:VEVENT
DTSTART;TZID=America/Denver:20230727T103000
DTEND;TZID=America/Denver:20230727T170000
DTSTAMP:20260421T062947
CREATED:20230511T210031Z
LAST-MODIFIED:20230601T215809Z
UID:1211-1690453800-1690477200@weareboulderstrong.org
SUMMARY:Acudetox
DESCRIPTION:Acudetox is a type of acupuncture treatment that is performed on the ears by certified providers. Acudetox has many proven therapeutic benefits\, come by to learn more or try it out! All appointments are on a walk-in basis.
URL:https://weareboulderstrong.org/event/acudetox-33/
LOCATION:BoulderStrong Resource Center\, 2935 Baseline Rd\, Boulder\, CO\, 80303\, United States
END:VEVENT
BEGIN:VEVENT
DTSTART;TZID=America/Denver:20230726T143000
DTEND;TZID=America/Denver:20230726T160000
DTSTAMP:20260421T062947
CREATED:20230511T203526Z
LAST-MODIFIED:20230511T203526Z
UID:1173-1690381800-1690387200@weareboulderstrong.org
SUMMARY:Art Journaling Group
DESCRIPTION:An art journal is a visual diary; it is completely customizable and often combines elements of writing\, drawing\, painting\, and collage. Art journaling as a self-care practice can support your healing\, growth\, and wellness. The BSRC provides supplies\, including a blank journal\, to all participants. During meetings\, a suggested prompt is provided\, along with ample time for artistic expression. We hope to see you there!
URL:https://weareboulderstrong.org/event/art-journaling-group-12/
LOCATION:BoulderStrong Resource Center\, 2935 Baseline Rd\, Boulder\, CO\, 80303\, United States
END:VEVENT
BEGIN:VEVENT
DTSTART;TZID=America/Denver:20230725T160000
DTEND;TZID=America/Denver:20230725T170000
DTSTAMP:20260421T062947
CREATED:20230511T203028Z
LAST-MODIFIED:20230627T205026Z
UID:1167-1690300800-1690304400@weareboulderstrong.org
SUMMARY:Stretching & Breathing Group
DESCRIPTION:A gentle stretching and breathing group that aids in grounding and emotional regulation. All ability levels welcome!
URL:https://weareboulderstrong.org/event/stretching-breathing-group-14/
LOCATION:BoulderStrong Resource Center\, 2935 Baseline Rd\, Boulder\, CO\, 80303\, United States
END:VEVENT
BEGIN:VEVENT
DTSTART;TZID=America/Denver:20230725T160000
DTEND;TZID=America/Denver:20230725T170000
DTSTAMP:20260421T062947
CREATED:20230511T200700Z
LAST-MODIFIED:20230511T200700Z
UID:1157-1690300800-1690304400@weareboulderstrong.org
SUMMARY:The Written Expression
DESCRIPTION:Open drop-in Creative Writing Group. Creative writing has a ton of mental health benefits including self expression\, thought management\, and emotional regulation. Come join in and don’t worry\, all writing may be kept personal\, nothing has to be shared! Journals & Pens provided.
URL:https://weareboulderstrong.org/event/the-written-expression-13/
LOCATION:BoulderStrong Resource Center\, 2935 Baseline Rd\, Boulder\, CO\, 80303\, United States
END:VEVENT
BEGIN:VEVENT
DTSTART;TZID=America/Denver:20230725T103000
DTEND;TZID=America/Denver:20230725T170000
DTSTAMP:20260421T062947
CREATED:20230511T212318Z
LAST-MODIFIED:20230601T215756Z
UID:1239-1690281000-1690304400@weareboulderstrong.org
SUMMARY:Massage Therapy
DESCRIPTION:Reserve a 30 minute appointment with the front desk!
URL:https://weareboulderstrong.org/event/massage-therapy-31/
LOCATION:BoulderStrong Resource Center\, 2935 Baseline Rd\, Boulder\, CO\, 80303\, United States
END:VEVENT
BEGIN:VEVENT
DTSTART;TZID=America/Denver:20230725T103000
DTEND;TZID=America/Denver:20230725T170000
DTSTAMP:20260421T062947
CREATED:20230511T210103Z
LAST-MODIFIED:20230601T215744Z
UID:1214-1690281000-1690304400@weareboulderstrong.org
SUMMARY:Acudetox
DESCRIPTION:Acudetox is a type of acupuncture treatment that is performed on the ears by certified providers. Acudetox has many proven therapeutic benefits\, come by to learn more or try it out! All appointments are on a walk-in basis.
URL:https://weareboulderstrong.org/event/acudetox-34/
LOCATION:BoulderStrong Resource Center\, 2935 Baseline Rd\, Boulder\, CO\, 80303\, United States
END:VEVENT
BEGIN:VEVENT
DTSTART;TZID=America/Denver:20230721T150000
DTEND;TZID=America/Denver:20230721T160000
DTSTAMP:20260421T062947
CREATED:20230511T204937Z
LAST-MODIFIED:20230511T204937Z
UID:1195-1689951600-1689955200@weareboulderstrong.org
SUMMARY:Melodic Healing
DESCRIPTION:This is a group for both music lovers and musicians to come together\, share their passion for music\, and discover how it can be used as a powerful tool to cope with emotional distress.
URL:https://weareboulderstrong.org/event/melodic-healing-10/
LOCATION:BoulderStrong Resource Center\, 2935 Baseline Rd\, Boulder\, CO\, 80303\, United States
END:VEVENT
BEGIN:VEVENT
DTSTART;TZID=America/Denver:20230720T123000
DTEND;TZID=America/Denver:20230720T130000
DTSTAMP:20260421T062947
CREATED:20230511T204703Z
LAST-MODIFIED:20230511T204703Z
UID:1185-1689856200-1689858000@weareboulderstrong.org
SUMMARY:Meditative Minds
DESCRIPTION:This is a DBT skills-based group that combines mindfulness concepts with an experiential meditation practice. All ability levels are welcome! \n  \n 
URL:https://weareboulderstrong.org/event/meditative-minds-12/
LOCATION:BoulderStrong Resource Center\, 2935 Baseline Rd\, Boulder\, CO\, 80303\, United States
END:VEVENT
BEGIN:VEVENT
DTSTART;TZID=America/Denver:20230720T103000
DTEND;TZID=America/Denver:20230720T170000
DTSTAMP:20260421T062947
CREATED:20230511T212329Z
LAST-MODIFIED:20230601T215731Z
UID:1246-1689849000-1689872400@weareboulderstrong.org
SUMMARY:Massage Therapy
DESCRIPTION:Reserve a 30 minute appointment with the front desk!
URL:https://weareboulderstrong.org/event/massage-therapy-32/
LOCATION:BoulderStrong Resource Center\, 2935 Baseline Rd\, Boulder\, CO\, 80303\, United States
END:VEVENT
BEGIN:VEVENT
DTSTART;TZID=America/Denver:20230720T103000
DTEND;TZID=America/Denver:20230720T170000
DTSTAMP:20260421T062947
CREATED:20230511T210136Z
LAST-MODIFIED:20230601T215713Z
UID:1215-1689849000-1689872400@weareboulderstrong.org
SUMMARY:Acudetox
DESCRIPTION:Acudetox is a type of acupuncture treatment that is performed on the ears by certified providers. Acudetox has many proven therapeutic benefits\, come by to learn more or try it out! All appointments are on a walk-in basis.
URL:https://weareboulderstrong.org/event/acudetox-35/
LOCATION:BoulderStrong Resource Center\, 2935 Baseline Rd\, Boulder\, CO\, 80303\, United States
END:VEVENT
BEGIN:VEVENT
DTSTART;VALUE=DATE:20230720
DTEND;VALUE=DATE:20230721
DTSTAMP:20260421T062947
CREATED:20230511T170837Z
LAST-MODIFIED:20230511T170837Z
UID:1088-1689811200-1689897599@weareboulderstrong.org
SUMMARY:🎨 Open Art Studio: TBD
DESCRIPTION:Come experience the benefits of creating art in community with others. While different projects are featured during Open Art Studio\, participants are welcome to engage in their own unique art pieces. The Center provides art/crafting supplies to all participants. This Thursday’s Open Art Studio event: To be decided.
URL:https://weareboulderstrong.org/event/%f0%9f%8e%a8-open-art-studio-tbd-4/
LOCATION:BoulderStrong Resource Center\, 2935 Baseline Rd\, Boulder\, CO\, 80303\, United States
END:VEVENT
BEGIN:VEVENT
DTSTART;TZID=America/Denver:20230719T143000
DTEND;TZID=America/Denver:20230719T160000
DTSTAMP:20260421T062947
CREATED:20230511T203619Z
LAST-MODIFIED:20230511T203619Z
UID:1175-1689777000-1689782400@weareboulderstrong.org
SUMMARY:Art Journaling Group
DESCRIPTION:An art journal is a visual diary; it is completely customizable and often combines elements of writing\, drawing\, painting\, and collage. Art journaling as a self-care practice can support your healing\, growth\, and wellness. The BSRC provides supplies\, including a blank journal\, to all participants. During meetings\, a suggested prompt is provided\, along with ample time for artistic expression. We hope to see you there!
URL:https://weareboulderstrong.org/event/art-journaling-group-15/
LOCATION:BoulderStrong Resource Center\, 2935 Baseline Rd\, Boulder\, CO\, 80303\, United States
END:VEVENT
BEGIN:VEVENT
DTSTART;TZID=America/Denver:20230718T160000
DTEND;TZID=America/Denver:20230718T170000
DTSTAMP:20260421T062947
CREATED:20230511T203005Z
LAST-MODIFIED:20230627T205007Z
UID:1166-1689696000-1689699600@weareboulderstrong.org
SUMMARY:Stretching & Breathing Group
DESCRIPTION:A gentle stretching and breathing group that aids in grounding and emotional regulation. All ability levels welcome!
URL:https://weareboulderstrong.org/event/stretching-breathing-group-12/
LOCATION:BoulderStrong Resource Center\, 2935 Baseline Rd\, Boulder\, CO\, 80303\, United States
END:VEVENT
BEGIN:VEVENT
DTSTART;TZID=America/Denver:20230718T160000
DTEND;TZID=America/Denver:20230718T170000
DTSTAMP:20260421T062947
CREATED:20230511T200642Z
LAST-MODIFIED:20230511T200642Z
UID:1158-1689696000-1689699600@weareboulderstrong.org
SUMMARY:The Written Expression
DESCRIPTION:Open drop-in Creative Writing Group. Creative writing has a ton of mental health benefits including self expression\, thought management\, and emotional regulation. Come join in and don’t worry\, all writing may be kept personal\, nothing has to be shared! Journals & Pens provided.
URL:https://weareboulderstrong.org/event/the-written-expression-12/
LOCATION:BoulderStrong Resource Center\, 2935 Baseline Rd\, Boulder\, CO\, 80303\, United States
END:VEVENT
BEGIN:VEVENT
DTSTART;TZID=America/Denver:20230718T103000
DTEND;TZID=America/Denver:20230718T170000
DTSTAMP:20260421T062947
CREATED:20230511T212340Z
LAST-MODIFIED:20230601T215617Z
UID:1245-1689676200-1689699600@weareboulderstrong.org
SUMMARY:Massage Therapy
DESCRIPTION:Reserve a 30 minute appointment with the front desk!
URL:https://weareboulderstrong.org/event/massage-therapy-33/
LOCATION:BoulderStrong Resource Center\, 2935 Baseline Rd\, Boulder\, CO\, 80303\, United States
END:VEVENT
BEGIN:VEVENT
DTSTART;TZID=America/Denver:20230718T103000
DTEND;TZID=America/Denver:20230718T170000
DTSTAMP:20260421T062947
CREATED:20230511T210203Z
LAST-MODIFIED:20230601T215601Z
UID:1223-1689676200-1689699600@weareboulderstrong.org
SUMMARY:Acudetox
DESCRIPTION:Acudetox is a type of acupuncture treatment that is performed on the ears by certified providers. Acudetox has many proven therapeutic benefits\, come by to learn more or try it out! All appointments are on a walk-in basis.
URL:https://weareboulderstrong.org/event/acudetox-36/
LOCATION:BoulderStrong Resource Center\, 2935 Baseline Rd\, Boulder\, CO\, 80303\, United States
END:VEVENT
BEGIN:VEVENT
DTSTART;TZID=America/Denver:20230714T150000
DTEND;TZID=America/Denver:20230714T160000
DTSTAMP:20260421T062947
CREATED:20230511T204947Z
LAST-MODIFIED:20230511T204947Z
UID:1194-1689346800-1689350400@weareboulderstrong.org
SUMMARY:Melodic Healing
DESCRIPTION:This is a group for both music lovers and musicians to come together\, share their passion for music\, and discover how it can be used as a powerful tool to cope with emotional distress.
URL:https://weareboulderstrong.org/event/melodic-healing-11/
LOCATION:BoulderStrong Resource Center\, 2935 Baseline Rd\, Boulder\, CO\, 80303\, United States
END:VEVENT
BEGIN:VEVENT
DTSTART;TZID=America/Denver:20230713T123000
DTEND;TZID=America/Denver:20230713T130000
DTSTAMP:20260421T062947
CREATED:20230511T204653Z
LAST-MODIFIED:20230511T204653Z
UID:1186-1689251400-1689253200@weareboulderstrong.org
SUMMARY:Meditative Minds
DESCRIPTION:This is a DBT skills-based group that combines mindfulness concepts with an experiential meditation practice. All ability levels are welcome! \n  \n 
URL:https://weareboulderstrong.org/event/meditative-minds-11/
LOCATION:BoulderStrong Resource Center\, 2935 Baseline Rd\, Boulder\, CO\, 80303\, United States
END:VEVENT
BEGIN:VEVENT
DTSTART;TZID=America/Denver:20230713T103000
DTEND;TZID=America/Denver:20230713T170000
DTSTAMP:20260421T062947
CREATED:20230511T212349Z
LAST-MODIFIED:20230601T215527Z
UID:1243-1689244200-1689267600@weareboulderstrong.org
SUMMARY:Massage Therapy
DESCRIPTION:Reserve a 30 minute appointment with the front desk!
URL:https://weareboulderstrong.org/event/massage-therapy-34/
LOCATION:BoulderStrong Resource Center\, 2935 Baseline Rd\, Boulder\, CO\, 80303\, United States
END:VEVENT
END:VCALENDAR