BEGIN:VCALENDAR
VERSION:2.0
PRODID:-//#BoulderStrong Resource Center - ECPv6.15.20//NONSGML v1.0//EN
CALSCALE:GREGORIAN
METHOD:PUBLISH
X-WR-CALNAME:#BoulderStrong Resource Center
X-ORIGINAL-URL:https://weareboulderstrong.org
X-WR-CALDESC:Events for #BoulderStrong Resource Center
REFRESH-INTERVAL;VALUE=DURATION:PT1H
X-Robots-Tag:noindex
X-PUBLISHED-TTL:PT1H
BEGIN:VTIMEZONE
TZID:America/Denver
BEGIN:DAYLIGHT
TZOFFSETFROM:-0700
TZOFFSETTO:-0600
TZNAME:MDT
DTSTART:20220313T090000
END:DAYLIGHT
BEGIN:STANDARD
TZOFFSETFROM:-0600
TZOFFSETTO:-0700
TZNAME:MST
DTSTART:20221106T080000
END:STANDARD
BEGIN:DAYLIGHT
TZOFFSETFROM:-0700
TZOFFSETTO:-0600
TZNAME:MDT
DTSTART:20230312T090000
END:DAYLIGHT
BEGIN:STANDARD
TZOFFSETFROM:-0600
TZOFFSETTO:-0700
TZNAME:MST
DTSTART:20231105T080000
END:STANDARD
BEGIN:DAYLIGHT
TZOFFSETFROM:-0700
TZOFFSETTO:-0600
TZNAME:MDT
DTSTART:20240310T090000
END:DAYLIGHT
BEGIN:STANDARD
TZOFFSETFROM:-0600
TZOFFSETTO:-0700
TZNAME:MST
DTSTART:20241103T080000
END:STANDARD
BEGIN:DAYLIGHT
TZOFFSETFROM:-0700
TZOFFSETTO:-0600
TZNAME:MDT
DTSTART:20250309T090000
END:DAYLIGHT
BEGIN:STANDARD
TZOFFSETFROM:-0600
TZOFFSETTO:-0700
TZNAME:MST
DTSTART:20251102T080000
END:STANDARD
END:VTIMEZONE
BEGIN:VEVENT
DTSTART;TZID=America/Denver:20240918T110000
DTEND;TZID=America/Denver:20240918T161500
DTSTAMP:20260420T122912
CREATED:20240830T143702Z
LAST-MODIFIED:20240830T143702Z
UID:1534-1726657200-1726676100@weareboulderstrong.org
SUMMARY:Massage Therapy
DESCRIPTION:Reserve a 30-minute appointment over the phone or with the front desk!
URL:https://weareboulderstrong.org/event/massage-therapy-9-18-2024/
LOCATION:BoulderStrong Resource Center\, 2935 Baseline Rd\, Boulder\, CO\, 80303\, United States
END:VEVENT
BEGIN:VEVENT
DTSTART;TZID=America/Denver:20240918T110000
DTEND;TZID=America/Denver:20240918T161500
DTSTAMP:20260420T122912
CREATED:20240830T143552Z
LAST-MODIFIED:20240830T143552Z
UID:1532-1726657200-1726676100@weareboulderstrong.org
SUMMARY:AcuDetox
DESCRIPTION:AcuDetox is a type of acupuncture treatment that is performed on the ears by certified providers. AcuDetox has many proven therapeutic benefits\, come by to learn more or try it out! All appointments are on a walk-in basis.
URL:https://weareboulderstrong.org/event/acudetox-9-18-2024/
LOCATION:BoulderStrong Resource Center\, 2935 Baseline Rd\, Boulder\, CO\, 80303\, United States
END:VEVENT
BEGIN:VEVENT
DTSTART;TZID=America/Denver:20240917T110000
DTEND;TZID=America/Denver:20240917T170000
DTSTAMP:20260420T122912
CREATED:20240830T143353Z
LAST-MODIFIED:20240830T143353Z
UID:1528-1726570800-1726592400@weareboulderstrong.org
SUMMARY:AcuDetox
DESCRIPTION:AcuDetox is a type of acupuncture treatment that is performed on the ears by certified providers. AcuDetox has many proven therapeutic benefits\, come by to learn more or try it out! All appointments are on a walk-in basis.
URL:https://weareboulderstrong.org/event/acudetox-9-17-2024/
LOCATION:BoulderStrong Resource Center\, 2935 Baseline Rd\, Boulder\, CO\, 80303\, United States
END:VEVENT
BEGIN:VEVENT
DTSTART;TZID=America/Denver:20240917T110000
DTEND;TZID=America/Denver:20240917T170000
DTSTAMP:20260420T122912
CREATED:20240830T142918Z
LAST-MODIFIED:20240830T142918Z
UID:1516-1726570800-1726592400@weareboulderstrong.org
SUMMARY:Massage Therapy
DESCRIPTION:Reserve a 30-minute appointment over the phone or with the front desk!
URL:https://weareboulderstrong.org/event/massage-therapy-9-17-2024/
LOCATION:BoulderStrong Resource Center\, 2935 Baseline Rd\, Boulder\, CO\, 80303\, United States
END:VEVENT
BEGIN:VEVENT
DTSTART;TZID=America/Denver:20240910T110000
DTEND;TZID=America/Denver:20240910T170000
DTSTAMP:20260420T122912
CREATED:20240830T143303Z
LAST-MODIFIED:20240830T143303Z
UID:1526-1725966000-1725987600@weareboulderstrong.org
SUMMARY:AcuDetox
DESCRIPTION:AcuDetox is a type of acupuncture treatment that is performed on the ears by certified providers. AcuDetox has many proven therapeutic benefits\, come by to learn more or try it out! All appointments are on a walk-in basis.
URL:https://weareboulderstrong.org/event/acudetox-9-10-2024/
LOCATION:BoulderStrong Resource Center\, 2935 Baseline Rd\, Boulder\, CO\, 80303\, United States
END:VEVENT
BEGIN:VEVENT
DTSTART;TZID=America/Denver:20240910T110000
DTEND;TZID=America/Denver:20240910T170000
DTSTAMP:20260420T122912
CREATED:20240830T142838Z
LAST-MODIFIED:20240830T142838Z
UID:1514-1725966000-1725987600@weareboulderstrong.org
SUMMARY:Massage Therapy
DESCRIPTION:Reserve a 30-minute appointment over the phone or with the front desk!
URL:https://weareboulderstrong.org/event/massage-therapy-9-10-2024/
LOCATION:BoulderStrong Resource Center\, 2935 Baseline Rd\, Boulder\, CO\, 80303\, United States
END:VEVENT
BEGIN:VEVENT
DTSTART;TZID=America/Denver:20240905T110000
DTEND;TZID=America/Denver:20240905T170000
DTSTAMP:20260420T122912
CREATED:20240830T143223Z
LAST-MODIFIED:20240830T143223Z
UID:1524-1725534000-1725555600@weareboulderstrong.org
SUMMARY:AcuDetox
DESCRIPTION:AcuDetox is a type of acupuncture treatment that is performed on the ears by certified providers. AcuDetox has many proven therapeutic benefits\, come by to learn more or try it out! All appointments are on a walk-in basis.
URL:https://weareboulderstrong.org/event/acudetox-9-5-2024/
LOCATION:BoulderStrong Resource Center\, 2935 Baseline Rd\, Boulder\, CO\, 80303\, United States
END:VEVENT
BEGIN:VEVENT
DTSTART;TZID=America/Denver:20240905T110000
DTEND;TZID=America/Denver:20240905T170000
DTSTAMP:20260420T122912
CREATED:20240830T142740Z
LAST-MODIFIED:20240830T142740Z
UID:1512-1725534000-1725555600@weareboulderstrong.org
SUMMARY:Massage Therapy
DESCRIPTION:Reserve a 30-minute appointment over the phone or with the front desk!
URL:https://weareboulderstrong.org/event/massage-therapy-9-5-2024/
LOCATION:BoulderStrong Resource Center\, 2935 Baseline Rd\, Boulder\, CO\, 80303\, United States
END:VEVENT
BEGIN:VEVENT
DTSTART;TZID=America/Denver:20240904T110000
DTEND;TZID=America/Denver:20240904T161500
DTSTAMP:20260420T122912
CREATED:20240830T143142Z
LAST-MODIFIED:20240830T143142Z
UID:1522-1725447600-1725466500@weareboulderstrong.org
SUMMARY:AcuDetox
DESCRIPTION:AcuDetox is a type of acupuncture treatment that is performed on the ears by certified providers. AcuDetox has many proven therapeutic benefits\, come by to learn more or try it out! All appointments are on a walk-in basis.
URL:https://weareboulderstrong.org/event/acudetox-9-4-2024/
LOCATION:BoulderStrong Resource Center\, 2935 Baseline Rd\, Boulder\, CO\, 80303\, United States
END:VEVENT
BEGIN:VEVENT
DTSTART;TZID=America/Denver:20240904T110000
DTEND;TZID=America/Denver:20240904T161500
DTSTAMP:20260420T122912
CREATED:20240830T142658Z
LAST-MODIFIED:20240830T142658Z
UID:1510-1725447600-1725466500@weareboulderstrong.org
SUMMARY:Massage Therapy
DESCRIPTION:Reserve a 30-minute appointment over the phone or with the front desk!
URL:https://weareboulderstrong.org/event/massage-therapy-9-4-2024/
LOCATION:BoulderStrong Resource Center\, 2935 Baseline Rd\, Boulder\, CO\, 80303\, United States
END:VEVENT
BEGIN:VEVENT
DTSTART;TZID=America/Denver:20240903T110000
DTEND;TZID=America/Denver:20240903T170000
DTSTAMP:20260420T122912
CREATED:20240830T143100Z
LAST-MODIFIED:20240830T143100Z
UID:1520-1725361200-1725382800@weareboulderstrong.org
SUMMARY:AcuDetox
DESCRIPTION:AcuDetox is a type of acupuncture treatment that is performed on the ears by certified providers. AcuDetox has many proven therapeutic benefits\, come by to learn more or try it out! All appointments are on a walk-in basis.
URL:https://weareboulderstrong.org/event/acudetox-9-3-2024/
LOCATION:BoulderStrong Resource Center\, 2935 Baseline Rd\, Boulder\, CO\, 80303\, United States
END:VEVENT
BEGIN:VEVENT
DTSTART;TZID=America/Denver:20240903T110000
DTEND;TZID=America/Denver:20240903T170000
DTSTAMP:20260420T122912
CREATED:20240830T142616Z
LAST-MODIFIED:20240830T142532Z
UID:1508-1725361200-1725382800@weareboulderstrong.org
SUMMARY:Massage Therapy
DESCRIPTION:Reserve a 30-minute appointment over the phone or with the front desk!
URL:https://weareboulderstrong.org/event/massage-therapy-9-3-2024/
LOCATION:BoulderStrong Resource Center\, 2935 Baseline Rd\, Boulder\, CO\, 80303\, United States
END:VEVENT
BEGIN:VEVENT
DTSTART;TZID=America/Denver:20240827T110000
DTEND;TZID=America/Denver:20240827T170000
DTSTAMP:20260420T122912
CREATED:20240801T214449Z
LAST-MODIFIED:20240801T214850Z
UID:1492-1724756400-1724778000@weareboulderstrong.org
SUMMARY:Massage Therapy
DESCRIPTION:Reserve a 30-minute appointment over the phone or with the front desk!
URL:https://weareboulderstrong.org/event/massage-therapy-8-27-2024/
LOCATION:BoulderStrong Resource Center\, 2935 Baseline Rd\, Boulder\, CO\, 80303\, United States
END:VEVENT
BEGIN:VEVENT
DTSTART;TZID=America/Denver:20240827T110000
DTEND;TZID=America/Denver:20240827T170000
DTSTAMP:20260420T122912
CREATED:20240801T163627Z
LAST-MODIFIED:20240801T163627Z
UID:1464-1724756400-1724778000@weareboulderstrong.org
SUMMARY:AcuDetox
DESCRIPTION:AcuDetox is a type of acupuncture treatment that is performed on the ears by certified providers. AcuDetox has many proven therapeutic benefits\, come by to learn more or try it out! All appointments are on a walk-in basis.
URL:https://weareboulderstrong.org/event/acudetox-8-27-2024/
LOCATION:BoulderStrong Resource Center\, 2935 Baseline Rd\, Boulder\, CO\, 80303\, United States
END:VEVENT
BEGIN:VEVENT
DTSTART;VALUE=DATE:20240826
DTEND;VALUE=DATE:20240827
DTSTAMP:20260420T122912
CREATED:20240801T192011Z
LAST-MODIFIED:20240801T214725Z
UID:1480-1724630400-1724716799@weareboulderstrong.org
SUMMARY:Virtual Mondays
DESCRIPTION:The Boulder Strong Resource Center office is closed on Monday; however\, we are still available for a virtual one-on-one session or support from a staff member by calling 303-545-0844 anytime from 10am- 5:30pm.
URL:https://weareboulderstrong.org/event/virtual-mondays-8-26-2024/
LOCATION:CO
END:VEVENT
BEGIN:VEVENT
DTSTART;TZID=America/Denver:20240821T150000
DTEND;TZID=America/Denver:20240821T170000
DTSTAMP:20260420T122912
CREATED:20240801T215234Z
LAST-MODIFIED:20240801T215234Z
UID:1501-1724252400-1724259600@weareboulderstrong.org
SUMMARY:🎬🍕 Za Reels 🍕🎬
DESCRIPTION:Join us for pizza and a movie! And don’t forget to vote for your movie choice.  \n*Za Reelz time is subject to change. Call the center at 303-545-0844 or check in with a staff member.
URL:https://weareboulderstrong.org/event/%f0%9f%8e%ac%f0%9f%8d%95-za-reels-%f0%9f%8d%95%f0%9f%8e%ac-3/
LOCATION:BoulderStrong Resource Center\, 2935 Baseline Rd\, Boulder\, CO\, 80303\, United States
END:VEVENT
BEGIN:VEVENT
DTSTART;TZID=America/Denver:20240821T110000
DTEND;TZID=America/Denver:20240821T160000
DTSTAMP:20260420T122912
CREATED:20240801T214344Z
LAST-MODIFIED:20240801T214930Z
UID:1490-1724238000-1724256000@weareboulderstrong.org
SUMMARY:Massage Therapy
DESCRIPTION:Reserve a 30-minute appointment over the phone or with the front desk!
URL:https://weareboulderstrong.org/event/massage-therapy-8-21-2024/
LOCATION:BoulderStrong Resource Center\, 2935 Baseline Rd\, Boulder\, CO\, 80303\, United States
END:VEVENT
BEGIN:VEVENT
DTSTART;TZID=America/Denver:20240821T110000
DTEND;TZID=America/Denver:20240821T160000
DTSTAMP:20260420T122912
CREATED:20240801T163730Z
LAST-MODIFIED:20240801T163730Z
UID:1466-1724238000-1724256000@weareboulderstrong.org
SUMMARY:AcuDetox
DESCRIPTION:AcuDetox is a type of acupuncture treatment that is performed on the ears by certified providers. AcuDetox has many proven therapeutic benefits\, come by to learn more or try it out! All appointments are on a walk-in basis.
URL:https://weareboulderstrong.org/event/acudetox-8-21-2024/
LOCATION:BoulderStrong Resource Center\, 2935 Baseline Rd\, Boulder\, CO\, 80303\, United States
END:VEVENT
BEGIN:VEVENT
DTSTART;TZID=America/Denver:20240820T110000
DTEND;TZID=America/Denver:20240820T170000
DTSTAMP:20260420T122912
CREATED:20240801T214322Z
LAST-MODIFIED:20240801T214935Z
UID:1488-1724151600-1724173200@weareboulderstrong.org
SUMMARY:Massage Therapy
DESCRIPTION:Reserve a 30-minute appointment over the phone or with the front desk!
URL:https://weareboulderstrong.org/event/massage-therapy-8-20-2024/
LOCATION:BoulderStrong Resource Center\, 2935 Baseline Rd\, Boulder\, CO\, 80303\, United States
END:VEVENT
BEGIN:VEVENT
DTSTART;TZID=America/Denver:20240820T110000
DTEND;TZID=America/Denver:20240820T170000
DTSTAMP:20260420T122912
CREATED:20240801T163529Z
LAST-MODIFIED:20240801T163529Z
UID:1462-1724151600-1724173200@weareboulderstrong.org
SUMMARY:AcuDetox
DESCRIPTION:AcuDetox is a type of acupuncture treatment that is performed on the ears by certified providers. AcuDetox has many proven therapeutic benefits\, come by to learn more or try it out! All appointments are on a walk-in basis.
URL:https://weareboulderstrong.org/event/acudetox-8-20-2024/
LOCATION:BoulderStrong Resource Center\, 2935 Baseline Rd\, Boulder\, CO\, 80303\, United States
END:VEVENT
BEGIN:VEVENT
DTSTART;VALUE=DATE:20240819
DTEND;VALUE=DATE:20240820
DTSTAMP:20260420T122912
CREATED:20240801T191942Z
LAST-MODIFIED:20240801T214803Z
UID:1478-1724025600-1724111999@weareboulderstrong.org
SUMMARY:Virtual Mondays
DESCRIPTION:The Boulder Strong Resource Center office is closed on Monday; however\, we are still available for a virtual one-on-one session or support from a staff member by calling 303-545-0844 anytime from 10am- 5:30pm.
URL:https://weareboulderstrong.org/event/virtual-mondays-8-19-2024/
LOCATION:CO
END:VEVENT
BEGIN:VEVENT
DTSTART;TZID=America/Denver:20240813T110000
DTEND;TZID=America/Denver:20240813T170000
DTSTAMP:20260420T122912
CREATED:20240801T214250Z
LAST-MODIFIED:20240801T214940Z
UID:1486-1723546800-1723568400@weareboulderstrong.org
SUMMARY:Massage Therapy
DESCRIPTION:Reserve a 30-minute appointment over the phone or with the front desk!
URL:https://weareboulderstrong.org/event/massage-therapy-8-13-2024/
LOCATION:BoulderStrong Resource Center\, 2935 Baseline Rd\, Boulder\, CO\, 80303\, United States
END:VEVENT
BEGIN:VEVENT
DTSTART;TZID=America/Denver:20240813T110000
DTEND;TZID=America/Denver:20240813T170000
DTSTAMP:20260420T122912
CREATED:20240801T163444Z
LAST-MODIFIED:20240801T163444Z
UID:1460-1723546800-1723568400@weareboulderstrong.org
SUMMARY:AcuDetox
DESCRIPTION:AcuDetox is a type of acupuncture treatment that is performed on the ears by certified providers. AcuDetox has many proven therapeutic benefits\, come by to learn more or try it out! All appointments are on a walk-in basis.
URL:https://weareboulderstrong.org/event/acudetox-8-13-2024/
LOCATION:BoulderStrong Resource Center\, 2935 Baseline Rd\, Boulder\, CO\, 80303\, United States
END:VEVENT
BEGIN:VEVENT
DTSTART;VALUE=DATE:20240812
DTEND;VALUE=DATE:20240813
DTSTAMP:20260420T122912
CREATED:20240801T170319Z
LAST-MODIFIED:20240801T214807Z
UID:1476-1723420800-1723507199@weareboulderstrong.org
SUMMARY:Virtual Mondays
DESCRIPTION:The Boulder Strong Resource Center office is closed on Monday; however\, we are still available for a virtual one-on-one session or support from a staff member by calling 303-545-0844 anytime from 10am- 5:30pm.
URL:https://weareboulderstrong.org/event/virtual-mondays-8-12-2024/
LOCATION:CO
END:VEVENT
BEGIN:VEVENT
DTSTART;TZID=America/Denver:20240807T110000
DTEND;TZID=America/Denver:20240807T170000
DTSTAMP:20260420T122912
CREATED:20240801T214202Z
LAST-MODIFIED:20240801T214943Z
UID:1484-1723028400-1723050000@weareboulderstrong.org
SUMMARY:Massage Therapy
DESCRIPTION:Reserve a 30-minute appointment over the phone or with the front desk!
URL:https://weareboulderstrong.org/event/massage-therapy-8-7-2024/
LOCATION:BoulderStrong Resource Center\, 2935 Baseline Rd\, Boulder\, CO\, 80303\, United States
END:VEVENT
BEGIN:VEVENT
DTSTART;TZID=America/Denver:20240806T110000
DTEND;TZID=America/Denver:20240806T170000
DTSTAMP:20260420T122912
CREATED:20240801T163336Z
LAST-MODIFIED:20240801T163336Z
UID:1457-1722942000-1722963600@weareboulderstrong.org
SUMMARY:AcuDetox
DESCRIPTION:AcuDetox is a type of acupuncture treatment that is performed on the ears by certified providers. AcuDetox has many proven therapeutic benefits\, come by to learn more or try it out! All appointments are on a walk-in basis.
URL:https://weareboulderstrong.org/event/acudetox-8-6-2024/
LOCATION:BoulderStrong Resource Center\, 2935 Baseline Rd\, Boulder\, CO\, 80303\, United States
END:VEVENT
BEGIN:VEVENT
DTSTART;VALUE=DATE:20240805
DTEND;VALUE=DATE:20240806
DTSTAMP:20260420T122912
CREATED:20240801T192149Z
LAST-MODIFIED:20240801T214811Z
UID:1482-1722816000-1722902399@weareboulderstrong.org
SUMMARY:Virtual Mondays
DESCRIPTION:The Boulder Strong Resource Center office is closed on Monday; however\, we are still available for a virtual one-on-one session or support from a staff member by calling 303-545-0844 anytime from 10am- 5:30pm.
URL:https://weareboulderstrong.org/event/virtual-mondays-8-5-2024-2/
LOCATION:CO
END:VEVENT
BEGIN:VEVENT
DTSTART;TZID=America/Denver:20231122T103000
DTEND;TZID=America/Denver:20231122T170000
DTSTAMP:20260420T122912
CREATED:20231103T160725Z
LAST-MODIFIED:20231103T160725Z
UID:1395-1700649000-1700672400@weareboulderstrong.org
SUMMARY:AcuDetox
DESCRIPTION:AcuDetox is a type of acupuncture treatment that is performed on the ears by certified providers. AcuDetox has many proven therapeutic benefits\, come by to learn more or try it out! All appointments are on a walk-in basis.
URL:https://weareboulderstrong.org/event/acudetox-26/
LOCATION:BoulderStrong Resource Center\, 2935 Baseline Rd\, Boulder\, CO\, 80303\, United States
END:VEVENT
BEGIN:VEVENT
DTSTART;TZID=America/Denver:20231122T103000
DTEND;TZID=America/Denver:20231122T170000
DTSTAMP:20260420T122912
CREATED:20231103T160725Z
LAST-MODIFIED:20231103T160725Z
UID:1395-1700649000-1700672400@weareboulderstrong.org
SUMMARY:AcuDetox
DESCRIPTION:AcuDetox is a type of acupuncture treatment that is performed on the ears by certified providers. AcuDetox has many proven therapeutic benefits\, come by to learn more or try it out! All appointments are on a walk-in basis.
URL:https://weareboulderstrong.org/event/acudetox-26/
LOCATION:BoulderStrong Resource Center\, 2935 Baseline Rd\, Boulder\, CO\, 80303\, United States
END:VEVENT
BEGIN:VEVENT
DTSTART;TZID=America/Denver:20230928T160000
DTEND;TZID=America/Denver:20230928T173000
DTSTAMP:20260420T122912
CREATED:20230908T180337Z
LAST-MODIFIED:20230908T180337Z
UID:1361-1695916800-1695922200@weareboulderstrong.org
SUMMARY:🎬🍕 Za Reels 🍕🎬
DESCRIPTION:Join us for pizza and a movie every 4th Thursday of the month from 4:00-5:30pm!  \nBe sure to stop by the front desk anytime to vote on what movie to watch!
URL:https://weareboulderstrong.org/event/%f0%9f%8e%ac%f0%9f%8d%95-za-reels-%f0%9f%8d%95%f0%9f%8e%ac-2/
LOCATION:BoulderStrong Resource Center\, 2935 Baseline Rd\, Boulder\, CO\, 80303\, United States
END:VEVENT
END:VCALENDAR