BEGIN:VCALENDAR
VERSION:2.0
PRODID:-//#BoulderStrong Resource Center - ECPv6.15.20//NONSGML v1.0//EN
CALSCALE:GREGORIAN
METHOD:PUBLISH
X-WR-CALNAME:#BoulderStrong Resource Center
X-ORIGINAL-URL:https://weareboulderstrong.org
X-WR-CALDESC:Events for #BoulderStrong Resource Center
REFRESH-INTERVAL;VALUE=DURATION:PT1H
X-Robots-Tag:noindex
X-PUBLISHED-TTL:PT1H
BEGIN:VTIMEZONE
TZID:America/Denver
BEGIN:DAYLIGHT
TZOFFSETFROM:-0700
TZOFFSETTO:-0600
TZNAME:MDT
DTSTART:20230312T090000
END:DAYLIGHT
BEGIN:STANDARD
TZOFFSETFROM:-0600
TZOFFSETTO:-0700
TZNAME:MST
DTSTART:20231105T080000
END:STANDARD
BEGIN:DAYLIGHT
TZOFFSETFROM:-0700
TZOFFSETTO:-0600
TZNAME:MDT
DTSTART:20240310T090000
END:DAYLIGHT
BEGIN:STANDARD
TZOFFSETFROM:-0600
TZOFFSETTO:-0700
TZNAME:MST
DTSTART:20241103T080000
END:STANDARD
BEGIN:DAYLIGHT
TZOFFSETFROM:-0700
TZOFFSETTO:-0600
TZNAME:MDT
DTSTART:20250309T090000
END:DAYLIGHT
BEGIN:STANDARD
TZOFFSETFROM:-0600
TZOFFSETTO:-0700
TZNAME:MST
DTSTART:20251102T080000
END:STANDARD
END:VTIMEZONE
BEGIN:VEVENT
DTSTART;TZID=America/Denver:20241030T110000
DTEND;TZID=America/Denver:20241030T160000
DTSTAMP:20260420T130410
CREATED:20240926T195545Z
LAST-MODIFIED:20240926T195545Z
UID:1575-1730286000-1730304000@weareboulderstrong.org
SUMMARY:Massage Therapy
DESCRIPTION:Reserve a 30-minute appointment over the phone or with the front desk!
URL:https://weareboulderstrong.org/event/massage-therapy-10-30-2024/
LOCATION:BoulderStrong Resource Center\, 2935 Baseline Rd\, Boulder\, CO\, 80303\, United States
END:VEVENT
BEGIN:VEVENT
DTSTART;TZID=America/Denver:20241030T110000
DTEND;TZID=America/Denver:20241030T160000
DTSTAMP:20260420T130410
CREATED:20240926T194851Z
LAST-MODIFIED:20240926T194851Z
UID:1557-1730286000-1730304000@weareboulderstrong.org
SUMMARY:AcuDetox
DESCRIPTION:AcuDetox is a type of acupuncture treatment that is performed on the ears by certified providers. AcuDetox has many proven therapeutic benefits\, come by to learn more or try it out! All appointments are on a walk-in basis.
URL:https://weareboulderstrong.org/event/acudetox-10-30-2024/
LOCATION:BoulderStrong Resource Center\, 2935 Baseline Rd\, Boulder\, CO\, 80303\, United States
END:VEVENT
BEGIN:VEVENT
DTSTART;TZID=America/Denver:20241029T110000
DTEND;TZID=America/Denver:20241029T170000
DTSTAMP:20260420T130410
CREATED:20240926T195509Z
LAST-MODIFIED:20240926T195509Z
UID:1573-1730199600-1730221200@weareboulderstrong.org
SUMMARY:Massage Therapy
DESCRIPTION:Reserve a 30-minute appointment over the phone or with the front desk!
URL:https://weareboulderstrong.org/event/massage-therapy-10-29-2024/
LOCATION:BoulderStrong Resource Center\, 2935 Baseline Rd\, Boulder\, CO\, 80303\, United States
END:VEVENT
BEGIN:VEVENT
DTSTART;TZID=America/Denver:20241029T110000
DTEND;TZID=America/Denver:20241029T170000
DTSTAMP:20260420T130410
CREATED:20240926T194813Z
LAST-MODIFIED:20240926T194813Z
UID:1555-1730199600-1730221200@weareboulderstrong.org
SUMMARY:AcuDetox
DESCRIPTION:AcuDetox is a type of acupuncture treatment that is performed on the ears by certified providers. AcuDetox has many proven therapeutic benefits\, come by to learn more or try it out! All appointments are on a walk-in basis.
URL:https://weareboulderstrong.org/event/acudetox-10-29-2024/
LOCATION:BoulderStrong Resource Center\, 2935 Baseline Rd\, Boulder\, CO\, 80303\, United States
END:VEVENT
BEGIN:VEVENT
DTSTART;TZID=America/Denver:20241023T110000
DTEND;TZID=America/Denver:20241023T160000
DTSTAMP:20260420T130410
CREATED:20240926T195352Z
LAST-MODIFIED:20240926T195352Z
UID:1569-1729681200-1729699200@weareboulderstrong.org
SUMMARY:Massage Therapy
DESCRIPTION:Reserve a 30-minute appointment over the phone or with the front desk!
URL:https://weareboulderstrong.org/event/massage-therapy-10-23-2024/
LOCATION:BoulderStrong Resource Center\, 2935 Baseline Rd\, Boulder\, CO\, 80303\, United States
END:VEVENT
BEGIN:VEVENT
DTSTART;TZID=America/Denver:20241023T110000
DTEND;TZID=America/Denver:20241023T160000
DTSTAMP:20260420T130410
CREATED:20240926T194738Z
LAST-MODIFIED:20240926T194738Z
UID:1553-1729681200-1729699200@weareboulderstrong.org
SUMMARY:AcuDetox
DESCRIPTION:AcuDetox is a type of acupuncture treatment that is performed on the ears by certified providers. AcuDetox has many proven therapeutic benefits\, come by to learn more or try it out! All appointments are on a walk-in basis.
URL:https://weareboulderstrong.org/event/acudetox-10-23-2024/
LOCATION:BoulderStrong Resource Center\, 2935 Baseline Rd\, Boulder\, CO\, 80303\, United States
END:VEVENT
BEGIN:VEVENT
DTSTART;TZID=America/Denver:20241022T110000
DTEND;TZID=America/Denver:20241022T170000
DTSTAMP:20260420T130410
CREATED:20240926T195316Z
LAST-MODIFIED:20240926T195316Z
UID:1567-1729594800-1729616400@weareboulderstrong.org
SUMMARY:Massage Therapy
DESCRIPTION:Reserve a 30-minute appointment over the phone or with the front desk!
URL:https://weareboulderstrong.org/event/massage-therapy-10-22-2024/
LOCATION:BoulderStrong Resource Center\, 2935 Baseline Rd\, Boulder\, CO\, 80303\, United States
END:VEVENT
BEGIN:VEVENT
DTSTART;TZID=America/Denver:20241022T110000
DTEND;TZID=America/Denver:20241022T170000
DTSTAMP:20260420T130410
CREATED:20240926T194701Z
LAST-MODIFIED:20240926T194701Z
UID:1551-1729594800-1729616400@weareboulderstrong.org
SUMMARY:AcuDetox
DESCRIPTION:AcuDetox is a type of acupuncture treatment that is performed on the ears by certified providers. AcuDetox has many proven therapeutic benefits\, come by to learn more or try it out! All appointments are on a walk-in basis.
URL:https://weareboulderstrong.org/event/acudetox-10-22-2024/
LOCATION:BoulderStrong Resource Center\, 2935 Baseline Rd\, Boulder\, CO\, 80303\, United States
END:VEVENT
BEGIN:VEVENT
DTSTART;TZID=America/Denver:20241016T150000
DTEND;TZID=America/Denver:20241016T170000
DTSTAMP:20260420T130410
CREATED:20240926T195645Z
LAST-MODIFIED:20240926T195645Z
UID:1577-1729090800-1729098000@weareboulderstrong.org
SUMMARY:🎬🍕 Za Reels 🍕🎬
DESCRIPTION:Join us for pizza and a movie! And don’t forget to vote for your movie choice.  \n*Za Reelz time is subject to change. Call the center at 303-545-0844 or check in with a staff member.
URL:https://weareboulderstrong.org/event/za-reels-10-16-2024/
LOCATION:BoulderStrong Resource Center\, 2935 Baseline Rd\, Boulder\, CO\, 80303\, United States
END:VEVENT
BEGIN:VEVENT
DTSTART;TZID=America/Denver:20241016T110000
DTEND;TZID=America/Denver:20241016T160000
DTSTAMP:20260420T130410
CREATED:20240926T195223Z
LAST-MODIFIED:20240926T195223Z
UID:1565-1729076400-1729094400@weareboulderstrong.org
SUMMARY:Massage Therapy
DESCRIPTION:Reserve a 30-minute appointment over the phone or with the front desk!
URL:https://weareboulderstrong.org/event/massage-therapy-10-16-2024/
LOCATION:BoulderStrong Resource Center\, 2935 Baseline Rd\, Boulder\, CO\, 80303\, United States
END:VEVENT
BEGIN:VEVENT
DTSTART;TZID=America/Denver:20241015T110000
DTEND;TZID=America/Denver:20241015T170000
DTSTAMP:20260420T130410
CREATED:20240926T195125Z
LAST-MODIFIED:20240926T195125Z
UID:1563-1728990000-1729011600@weareboulderstrong.org
SUMMARY:Massage Therapy
DESCRIPTION:Reserve a 30-minute appointment over the phone or with the front desk!
URL:https://weareboulderstrong.org/event/massage-therapy-10-15-2024/
LOCATION:BoulderStrong Resource Center\, 2935 Baseline Rd\, Boulder\, CO\, 80303\, United States
END:VEVENT
BEGIN:VEVENT
DTSTART;TZID=America/Denver:20241015T110000
DTEND;TZID=America/Denver:20241015T170000
DTSTAMP:20260420T130410
CREATED:20240926T194626Z
LAST-MODIFIED:20240926T194626Z
UID:1549-1728990000-1729011600@weareboulderstrong.org
SUMMARY:AcuDetox
DESCRIPTION:AcuDetox is a type of acupuncture treatment that is performed on the ears by certified providers. AcuDetox has many proven therapeutic benefits\, come by to learn more or try it out! All appointments are on a walk-in basis.
URL:https://weareboulderstrong.org/event/acudetox-10-15-2024/
LOCATION:BoulderStrong Resource Center\, 2935 Baseline Rd\, Boulder\, CO\, 80303\, United States
END:VEVENT
BEGIN:VEVENT
DTSTART;TZID=America/Denver:20241008T110000
DTEND;TZID=America/Denver:20241008T170000
DTSTAMP:20260420T130410
CREATED:20240926T195044Z
LAST-MODIFIED:20240926T195044Z
UID:1561-1728385200-1728406800@weareboulderstrong.org
SUMMARY:Massage Therapy
DESCRIPTION:Reserve a 30-minute appointment over the phone or with the front desk!
URL:https://weareboulderstrong.org/event/massage-therapy-10-8-2024/
LOCATION:BoulderStrong Resource Center\, 2935 Baseline Rd\, Boulder\, CO\, 80303\, United States
END:VEVENT
BEGIN:VEVENT
DTSTART;TZID=America/Denver:20241008T110000
DTEND;TZID=America/Denver:20241008T170000
DTSTAMP:20260420T130410
CREATED:20240926T194423Z
LAST-MODIFIED:20240926T194423Z
UID:1547-1728385200-1728406800@weareboulderstrong.org
SUMMARY:AcuDetox
DESCRIPTION:AcuDetox is a type of acupuncture treatment that is performed on the ears by certified providers. AcuDetox has many proven therapeutic benefits\, come by to learn more or try it out! All appointments are on a walk-in basis.
URL:https://weareboulderstrong.org/event/acudetox-10-8-2024/
LOCATION:BoulderStrong Resource Center\, 2935 Baseline Rd\, Boulder\, CO\, 80303\, United States
END:VEVENT
BEGIN:VEVENT
DTSTART;TZID=America/Denver:20241002T110000
DTEND;TZID=America/Denver:20241002T160000
DTSTAMP:20260420T130410
CREATED:20240926T194328Z
LAST-MODIFIED:20240926T194328Z
UID:1545-1727866800-1727884800@weareboulderstrong.org
SUMMARY:AcuDetox
DESCRIPTION:AcuDetox is a type of acupuncture treatment that is performed on the ears by certified providers. AcuDetox has many proven therapeutic benefits\, come by to learn more or try it out! All appointments are on a walk-in basis.
URL:https://weareboulderstrong.org/event/acudetox-10-2-2024/
LOCATION:BoulderStrong Resource Center\, 2935 Baseline Rd\, Boulder\, CO\, 80303\, United States
END:VEVENT
BEGIN:VEVENT
DTSTART;TZID=America/Denver:20241001T110000
DTEND;TZID=America/Denver:20241001T170000
DTSTAMP:20260420T130410
CREATED:20240926T195011Z
LAST-MODIFIED:20240926T195011Z
UID:1559-1727780400-1727802000@weareboulderstrong.org
SUMMARY:Massage Therapy
DESCRIPTION:Reserve a 30-minute appointment over the phone or with the front desk!
URL:https://weareboulderstrong.org/event/massage-therapy-10-1-2024/
LOCATION:BoulderStrong Resource Center\, 2935 Baseline Rd\, Boulder\, CO\, 80303\, United States
END:VEVENT
BEGIN:VEVENT
DTSTART;TZID=America/Denver:20241001T110000
DTEND;TZID=America/Denver:20241001T170000
DTSTAMP:20260420T130410
CREATED:20240926T194239Z
LAST-MODIFIED:20240926T194239Z
UID:1543-1727780400-1727802000@weareboulderstrong.org
SUMMARY:AcuDetox
DESCRIPTION:AcuDetox is a type of acupuncture treatment that is performed on the ears by certified providers. AcuDetox has many proven therapeutic benefits\, come by to learn more or try it out! All appointments are on a walk-in basis.
URL:https://weareboulderstrong.org/event/acudetox-10-1-2024/
LOCATION:BoulderStrong Resource Center\, 2935 Baseline Rd\, Boulder\, CO\, 80303\, United States
END:VEVENT
BEGIN:VEVENT
DTSTART;TZID=America/Denver:20240924T110000
DTEND;TZID=America/Denver:20240924T170000
DTSTAMP:20260420T130410
CREATED:20240830T143438Z
LAST-MODIFIED:20240830T143438Z
UID:1530-1727175600-1727197200@weareboulderstrong.org
SUMMARY:AcuDetox
DESCRIPTION:AcuDetox is a type of acupuncture treatment that is performed on the ears by certified providers. AcuDetox has many proven therapeutic benefits\, come by to learn more or try it out! All appointments are on a walk-in basis.
URL:https://weareboulderstrong.org/event/acudetox-9-24-2024/
LOCATION:BoulderStrong Resource Center\, 2935 Baseline Rd\, Boulder\, CO\, 80303\, United States
END:VEVENT
BEGIN:VEVENT
DTSTART;TZID=America/Denver:20240924T110000
DTEND;TZID=America/Denver:20240924T170000
DTSTAMP:20260420T130410
CREATED:20240830T142956Z
LAST-MODIFIED:20240830T142956Z
UID:1518-1727175600-1727197200@weareboulderstrong.org
SUMMARY:Massage Therapy
DESCRIPTION:Reserve a 30-minute appointment over the phone or with the front desk!
URL:https://weareboulderstrong.org/event/massage-therapy-9-24-2024/
LOCATION:BoulderStrong Resource Center\, 2935 Baseline Rd\, Boulder\, CO\, 80303\, United States
END:VEVENT
BEGIN:VEVENT
DTSTART;TZID=America/Denver:20240918T150000
DTEND;TZID=America/Denver:20240918T170000
DTSTAMP:20260420T130410
CREATED:20240830T143817Z
LAST-MODIFIED:20240830T143817Z
UID:1536-1726671600-1726678800@weareboulderstrong.org
SUMMARY:🎬🍕 Za Reels 🍕🎬
DESCRIPTION:Join us for pizza and a movie! And don’t forget to vote for your movie choice.  \n*Za Reelz time is subject to change. Call the center at 303-545-0844 or check in with a staff member.
URL:https://weareboulderstrong.org/event/za-reels-9-18-2024/
LOCATION:BoulderStrong Resource Center\, 2935 Baseline Rd\, Boulder\, CO\, 80303\, United States
END:VEVENT
BEGIN:VEVENT
DTSTART;TZID=America/Denver:20240918T110000
DTEND;TZID=America/Denver:20240918T161500
DTSTAMP:20260420T130410
CREATED:20240830T143702Z
LAST-MODIFIED:20240830T143702Z
UID:1534-1726657200-1726676100@weareboulderstrong.org
SUMMARY:Massage Therapy
DESCRIPTION:Reserve a 30-minute appointment over the phone or with the front desk!
URL:https://weareboulderstrong.org/event/massage-therapy-9-18-2024/
LOCATION:BoulderStrong Resource Center\, 2935 Baseline Rd\, Boulder\, CO\, 80303\, United States
END:VEVENT
BEGIN:VEVENT
DTSTART;TZID=America/Denver:20240918T110000
DTEND;TZID=America/Denver:20240918T161500
DTSTAMP:20260420T130410
CREATED:20240830T143552Z
LAST-MODIFIED:20240830T143552Z
UID:1532-1726657200-1726676100@weareboulderstrong.org
SUMMARY:AcuDetox
DESCRIPTION:AcuDetox is a type of acupuncture treatment that is performed on the ears by certified providers. AcuDetox has many proven therapeutic benefits\, come by to learn more or try it out! All appointments are on a walk-in basis.
URL:https://weareboulderstrong.org/event/acudetox-9-18-2024/
LOCATION:BoulderStrong Resource Center\, 2935 Baseline Rd\, Boulder\, CO\, 80303\, United States
END:VEVENT
BEGIN:VEVENT
DTSTART;TZID=America/Denver:20240917T110000
DTEND;TZID=America/Denver:20240917T170000
DTSTAMP:20260420T130410
CREATED:20240830T143353Z
LAST-MODIFIED:20240830T143353Z
UID:1528-1726570800-1726592400@weareboulderstrong.org
SUMMARY:AcuDetox
DESCRIPTION:AcuDetox is a type of acupuncture treatment that is performed on the ears by certified providers. AcuDetox has many proven therapeutic benefits\, come by to learn more or try it out! All appointments are on a walk-in basis.
URL:https://weareboulderstrong.org/event/acudetox-9-17-2024/
LOCATION:BoulderStrong Resource Center\, 2935 Baseline Rd\, Boulder\, CO\, 80303\, United States
END:VEVENT
BEGIN:VEVENT
DTSTART;TZID=America/Denver:20240917T110000
DTEND;TZID=America/Denver:20240917T170000
DTSTAMP:20260420T130410
CREATED:20240830T142918Z
LAST-MODIFIED:20240830T142918Z
UID:1516-1726570800-1726592400@weareboulderstrong.org
SUMMARY:Massage Therapy
DESCRIPTION:Reserve a 30-minute appointment over the phone or with the front desk!
URL:https://weareboulderstrong.org/event/massage-therapy-9-17-2024/
LOCATION:BoulderStrong Resource Center\, 2935 Baseline Rd\, Boulder\, CO\, 80303\, United States
END:VEVENT
BEGIN:VEVENT
DTSTART;TZID=America/Denver:20240910T110000
DTEND;TZID=America/Denver:20240910T170000
DTSTAMP:20260420T130410
CREATED:20240830T143303Z
LAST-MODIFIED:20240830T143303Z
UID:1526-1725966000-1725987600@weareboulderstrong.org
SUMMARY:AcuDetox
DESCRIPTION:AcuDetox is a type of acupuncture treatment that is performed on the ears by certified providers. AcuDetox has many proven therapeutic benefits\, come by to learn more or try it out! All appointments are on a walk-in basis.
URL:https://weareboulderstrong.org/event/acudetox-9-10-2024/
LOCATION:BoulderStrong Resource Center\, 2935 Baseline Rd\, Boulder\, CO\, 80303\, United States
END:VEVENT
BEGIN:VEVENT
DTSTART;TZID=America/Denver:20240910T110000
DTEND;TZID=America/Denver:20240910T170000
DTSTAMP:20260420T130410
CREATED:20240830T142838Z
LAST-MODIFIED:20240830T142838Z
UID:1514-1725966000-1725987600@weareboulderstrong.org
SUMMARY:Massage Therapy
DESCRIPTION:Reserve a 30-minute appointment over the phone or with the front desk!
URL:https://weareboulderstrong.org/event/massage-therapy-9-10-2024/
LOCATION:BoulderStrong Resource Center\, 2935 Baseline Rd\, Boulder\, CO\, 80303\, United States
END:VEVENT
BEGIN:VEVENT
DTSTART;TZID=America/Denver:20240905T110000
DTEND;TZID=America/Denver:20240905T170000
DTSTAMP:20260420T130410
CREATED:20240830T143223Z
LAST-MODIFIED:20240830T143223Z
UID:1524-1725534000-1725555600@weareboulderstrong.org
SUMMARY:AcuDetox
DESCRIPTION:AcuDetox is a type of acupuncture treatment that is performed on the ears by certified providers. AcuDetox has many proven therapeutic benefits\, come by to learn more or try it out! All appointments are on a walk-in basis.
URL:https://weareboulderstrong.org/event/acudetox-9-5-2024/
LOCATION:BoulderStrong Resource Center\, 2935 Baseline Rd\, Boulder\, CO\, 80303\, United States
END:VEVENT
BEGIN:VEVENT
DTSTART;TZID=America/Denver:20240905T110000
DTEND;TZID=America/Denver:20240905T170000
DTSTAMP:20260420T130410
CREATED:20240830T142740Z
LAST-MODIFIED:20240830T142740Z
UID:1512-1725534000-1725555600@weareboulderstrong.org
SUMMARY:Massage Therapy
DESCRIPTION:Reserve a 30-minute appointment over the phone or with the front desk!
URL:https://weareboulderstrong.org/event/massage-therapy-9-5-2024/
LOCATION:BoulderStrong Resource Center\, 2935 Baseline Rd\, Boulder\, CO\, 80303\, United States
END:VEVENT
BEGIN:VEVENT
DTSTART;TZID=America/Denver:20240904T110000
DTEND;TZID=America/Denver:20240904T161500
DTSTAMP:20260420T130410
CREATED:20240830T143142Z
LAST-MODIFIED:20240830T143142Z
UID:1522-1725447600-1725466500@weareboulderstrong.org
SUMMARY:AcuDetox
DESCRIPTION:AcuDetox is a type of acupuncture treatment that is performed on the ears by certified providers. AcuDetox has many proven therapeutic benefits\, come by to learn more or try it out! All appointments are on a walk-in basis.
URL:https://weareboulderstrong.org/event/acudetox-9-4-2024/
LOCATION:BoulderStrong Resource Center\, 2935 Baseline Rd\, Boulder\, CO\, 80303\, United States
END:VEVENT
BEGIN:VEVENT
DTSTART;TZID=America/Denver:20240904T110000
DTEND;TZID=America/Denver:20240904T161500
DTSTAMP:20260420T130410
CREATED:20240830T142658Z
LAST-MODIFIED:20240830T142658Z
UID:1510-1725447600-1725466500@weareboulderstrong.org
SUMMARY:Massage Therapy
DESCRIPTION:Reserve a 30-minute appointment over the phone or with the front desk!
URL:https://weareboulderstrong.org/event/massage-therapy-9-4-2024/
LOCATION:BoulderStrong Resource Center\, 2935 Baseline Rd\, Boulder\, CO\, 80303\, United States
END:VEVENT
END:VCALENDAR