BEGIN:VCALENDAR
VERSION:2.0
PRODID:-//#BoulderStrong Resource Center - ECPv6.15.20//NONSGML v1.0//EN
CALSCALE:GREGORIAN
METHOD:PUBLISH
X-WR-CALNAME:#BoulderStrong Resource Center
X-ORIGINAL-URL:https://weareboulderstrong.org
X-WR-CALDESC:Events for #BoulderStrong Resource Center
REFRESH-INTERVAL;VALUE=DURATION:PT1H
X-Robots-Tag:noindex
X-PUBLISHED-TTL:PT1H
BEGIN:VTIMEZONE
TZID:America/Denver
BEGIN:DAYLIGHT
TZOFFSETFROM:-0700
TZOFFSETTO:-0600
TZNAME:MDT
DTSTART:20240310T090000
END:DAYLIGHT
BEGIN:STANDARD
TZOFFSETFROM:-0600
TZOFFSETTO:-0700
TZNAME:MST
DTSTART:20241103T080000
END:STANDARD
BEGIN:DAYLIGHT
TZOFFSETFROM:-0700
TZOFFSETTO:-0600
TZNAME:MDT
DTSTART:20250309T090000
END:DAYLIGHT
BEGIN:STANDARD
TZOFFSETFROM:-0600
TZOFFSETTO:-0700
TZNAME:MST
DTSTART:20251102T080000
END:STANDARD
BEGIN:DAYLIGHT
TZOFFSETFROM:-0700
TZOFFSETTO:-0600
TZNAME:MDT
DTSTART:20260308T090000
END:DAYLIGHT
BEGIN:STANDARD
TZOFFSETFROM:-0600
TZOFFSETTO:-0700
TZNAME:MST
DTSTART:20261101T080000
END:STANDARD
END:VTIMEZONE
BEGIN:VEVENT
DTSTART;VALUE=DATE:20250425
DTEND;VALUE=DATE:20250426
DTSTAMP:20260419T104328
CREATED:20250327T181653Z
LAST-MODIFIED:20250327T181653Z
UID:1825-1745539200-1745625599@weareboulderstrong.org
SUMMARY:BSRC's Last Day
DESCRIPTION:We want to thank all of you for the years you have spent with us. You have all meant so much to us and we are grateful for the time we have been able to support you. Please feel free to come by at anytime during the month and to our farewell celebration April 23rd\, 3p-6p. We look forward to be able to celebrate our time together.
URL:https://weareboulderstrong.org/event/bsrc-last-day/
LOCATION:BoulderStrong Resource Center\, 2935 Baseline Rd\, Boulder\, CO\, 80303\, United States
ATTACH;FMTTYPE=image/jpeg:https://weareboulderstrong.org/wp-content/uploads/tree-of-life-1.jpg
END:VEVENT
BEGIN:VEVENT
DTSTART;TZID=America/Denver:20250423T150000
DTEND;TZID=America/Denver:20250423T180000
DTSTAMP:20260419T104328
CREATED:20250312T214232Z
LAST-MODIFIED:20250312T214423Z
UID:1789-1745420400-1745431200@weareboulderstrong.org
SUMMARY:Farewell Celebration
DESCRIPTION:As we say farewell to the Boulder Strong Resource Center\, we welcome all those who walked through our doors (and those who helped us open our doors) to an afternoon dedicated to the #BoulderStrong Community. Light refreshments will be served\, and a commemorative art activity will be available for visitors to participate in. Brief remarks will happen at 4:45 PM. \n\nRSVPs by April 18th are greatly appreciated\, but not required: https://scnv.io/bsrc
URL:https://weareboulderstrong.org/event/farewell-celebration/
LOCATION:BoulderStrong Resource Center\, 2935 Baseline Rd\, Boulder\, CO\, 80303\, United States
ATTACH;FMTTYPE=image/jpeg:https://weareboulderstrong.org/wp-content/uploads/tree-of-life-1.jpg
END:VEVENT
BEGIN:VEVENT
DTSTART;TZID=America/Denver:20250423T110000
DTEND;TZID=America/Denver:20250423T170000
DTSTAMP:20260419T104328
CREATED:20250327T181447Z
LAST-MODIFIED:20250327T181447Z
UID:1823-1745406000-1745427600@weareboulderstrong.org
SUMMARY:AcuDetox
DESCRIPTION:AcuDetox is a type of acupuncture treatment that is performed on the ears by certified providers. AcuDetox has many proven therapeutic benefits\, come by to learn more or try it out! All appointments are on a walk-in basis.
URL:https://weareboulderstrong.org/event/acudetox-4-23-2025/
LOCATION:BoulderStrong Resource Center\, 2935 Baseline Rd\, Boulder\, CO\, 80303\, United States
END:VEVENT
BEGIN:VEVENT
DTSTART;TZID=America/Denver:20250423T110000
DTEND;TZID=America/Denver:20250423T170000
DTSTAMP:20260419T104328
CREATED:20250327T181049Z
LAST-MODIFIED:20250327T181049Z
UID:1811-1745406000-1745427600@weareboulderstrong.org
SUMMARY:Massage Therapy
DESCRIPTION:Reserve a 30-minute appointment over the phone or with the front desk!
URL:https://weareboulderstrong.org/event/massage-therapy-4-23-2025/
LOCATION:BoulderStrong Resource Center\, 2935 Baseline Rd\, Boulder\, CO\, 80303\, United States
END:VEVENT
BEGIN:VEVENT
DTSTART;TZID=America/Denver:20250422T110000
DTEND;TZID=America/Denver:20250422T170000
DTSTAMP:20260419T104328
CREATED:20250327T181413Z
LAST-MODIFIED:20250327T181413Z
UID:1821-1745319600-1745341200@weareboulderstrong.org
SUMMARY:AcuDetox
DESCRIPTION:AcuDetox is a type of acupuncture treatment that is performed on the ears by certified providers. AcuDetox has many proven therapeutic benefits\, come by to learn more or try it out! All appointments are on a walk-in basis.
URL:https://weareboulderstrong.org/event/acudetox-4-22-2025/
LOCATION:BoulderStrong Resource Center\, 2935 Baseline Rd\, Boulder\, CO\, 80303\, United States
END:VEVENT
BEGIN:VEVENT
DTSTART;TZID=America/Denver:20250422T110000
DTEND;TZID=America/Denver:20250422T170000
DTSTAMP:20260419T104328
CREATED:20250327T180932Z
LAST-MODIFIED:20250327T180932Z
UID:1807-1745319600-1745341200@weareboulderstrong.org
SUMMARY:Massage Therapy
DESCRIPTION:Reserve a 30-minute appointment over the phone or with the front desk!
URL:https://weareboulderstrong.org/event/massage-therapy-4-22-2025/
LOCATION:BoulderStrong Resource Center\, 2935 Baseline Rd\, Boulder\, CO\, 80303\, United States
END:VEVENT
BEGIN:VEVENT
DTSTART;VALUE=DATE:20250421
DTEND;VALUE=DATE:20250422
DTSTAMP:20260419T104328
CREATED:20250327T180522Z
LAST-MODIFIED:20250327T180522Z
UID:1799-1745193600-1745279999@weareboulderstrong.org
SUMMARY:Virtual only
DESCRIPTION:The Boulder Strong Resource Center office will be closed\, but virtual appointments and support are still available. Call us at 303-545-0844 from 10am-5:30pm.
URL:https://weareboulderstrong.org/event/virtual-only-4-21-2025/
LOCATION:CO
END:VEVENT
BEGIN:VEVENT
DTSTART;TZID=America/Denver:20250417T110000
DTEND;TZID=America/Denver:20250417T170000
DTSTAMP:20260419T104328
CREATED:20250327T181336Z
LAST-MODIFIED:20250327T181336Z
UID:1819-1744887600-1744909200@weareboulderstrong.org
SUMMARY:AcuDetox
DESCRIPTION:AcuDetox is a type of acupuncture treatment that is performed on the ears by certified providers. AcuDetox has many proven therapeutic benefits\, come by to learn more or try it out! All appointments are on a walk-in basis.
URL:https://weareboulderstrong.org/event/acudetox-4-17-2025/
LOCATION:BoulderStrong Resource Center\, 2935 Baseline Rd\, Boulder\, CO\, 80303\, United States
END:VEVENT
BEGIN:VEVENT
DTSTART;TZID=America/Denver:20250417T110000
DTEND;TZID=America/Denver:20250417T170000
DTSTAMP:20260419T104328
CREATED:20250327T181012Z
LAST-MODIFIED:20250327T181012Z
UID:1809-1744887600-1744909200@weareboulderstrong.org
SUMMARY:Massage Therapy
DESCRIPTION:Reserve a 30-minute appointment over the phone or with the front desk!
URL:https://weareboulderstrong.org/event/massage-therapy-4-17-2025/
LOCATION:BoulderStrong Resource Center\, 2935 Baseline Rd\, Boulder\, CO\, 80303\, United States
END:VEVENT
BEGIN:VEVENT
DTSTART;TZID=America/Denver:20250415T110000
DTEND;TZID=America/Denver:20250415T170000
DTSTAMP:20260419T104328
CREATED:20250327T181307Z
LAST-MODIFIED:20250327T181307Z
UID:1817-1744714800-1744736400@weareboulderstrong.org
SUMMARY:AcuDetox
DESCRIPTION:AcuDetox is a type of acupuncture treatment that is performed on the ears by certified providers. AcuDetox has many proven therapeutic benefits\, come by to learn more or try it out! All appointments are on a walk-in basis.
URL:https://weareboulderstrong.org/event/acudetox-4-15-2025/
LOCATION:BoulderStrong Resource Center\, 2935 Baseline Rd\, Boulder\, CO\, 80303\, United States
END:VEVENT
BEGIN:VEVENT
DTSTART;TZID=America/Denver:20250415T110000
DTEND;TZID=America/Denver:20250415T170000
DTSTAMP:20260419T104328
CREATED:20250327T180858Z
LAST-MODIFIED:20250327T180858Z
UID:1805-1744714800-1744736400@weareboulderstrong.org
SUMMARY:Massage Therapy
DESCRIPTION:Reserve a 30-minute appointment over the phone or with the front desk!
URL:https://weareboulderstrong.org/event/massage-therapy-4-15-2025/
LOCATION:BoulderStrong Resource Center\, 2935 Baseline Rd\, Boulder\, CO\, 80303\, United States
END:VEVENT
BEGIN:VEVENT
DTSTART;VALUE=DATE:20250414
DTEND;VALUE=DATE:20250415
DTSTAMP:20260419T104328
CREATED:20250327T180446Z
LAST-MODIFIED:20250327T180446Z
UID:1797-1744588800-1744675199@weareboulderstrong.org
SUMMARY:Virtual only
DESCRIPTION:The Boulder Strong Resource Center office will be closed\, but virtual appointments and support are still available. Call us at 303-545-0844 from 10am-5:30pm.
URL:https://weareboulderstrong.org/event/virtual-only-4-14-2025/
LOCATION:CO
END:VEVENT
BEGIN:VEVENT
DTSTART;TZID=America/Denver:20250408T110000
DTEND;TZID=America/Denver:20250408T170000
DTSTAMP:20260419T104328
CREATED:20250327T181227Z
LAST-MODIFIED:20250327T181227Z
UID:1815-1744110000-1744131600@weareboulderstrong.org
SUMMARY:AcuDetox
DESCRIPTION:AcuDetox is a type of acupuncture treatment that is performed on the ears by certified providers. AcuDetox has many proven therapeutic benefits\, come by to learn more or try it out! All appointments are on a walk-in basis.
URL:https://weareboulderstrong.org/event/acudetox-4-8-2025/
LOCATION:BoulderStrong Resource Center\, 2935 Baseline Rd\, Boulder\, CO\, 80303\, United States
END:VEVENT
BEGIN:VEVENT
DTSTART;TZID=America/Denver:20250408T110000
DTEND;TZID=America/Denver:20250408T170000
DTSTAMP:20260419T104328
CREATED:20250327T180823Z
LAST-MODIFIED:20250327T180823Z
UID:1803-1744110000-1744131600@weareboulderstrong.org
SUMMARY:Massage Therapy
DESCRIPTION:Reserve a 30-minute appointment over the phone or with the front desk!
URL:https://weareboulderstrong.org/event/massage-therapy-4-8-2025/
LOCATION:BoulderStrong Resource Center\, 2935 Baseline Rd\, Boulder\, CO\, 80303\, United States
END:VEVENT
BEGIN:VEVENT
DTSTART;VALUE=DATE:20250407
DTEND;VALUE=DATE:20250408
DTSTAMP:20260419T104328
CREATED:20250327T180413Z
LAST-MODIFIED:20250327T180413Z
UID:1795-1743984000-1744070399@weareboulderstrong.org
SUMMARY:Virtual only
DESCRIPTION:The Boulder Strong Resource Center office will be closed\, but virtual appointments and support are still available. Call us at 303-545-0844 from 10am-5:30pm.
URL:https://weareboulderstrong.org/event/virtual-only-4-7-2025/
LOCATION:CO
END:VEVENT
BEGIN:VEVENT
DTSTART;TZID=America/Denver:20250401T110000
DTEND;TZID=America/Denver:20250401T170000
DTSTAMP:20260419T104328
CREATED:20250327T181150Z
LAST-MODIFIED:20250327T181150Z
UID:1813-1743505200-1743526800@weareboulderstrong.org
SUMMARY:AcuDetox
DESCRIPTION:AcuDetox is a type of acupuncture treatment that is performed on the ears by certified providers. AcuDetox has many proven therapeutic benefits\, come by to learn more or try it out! All appointments are on a walk-in basis.
URL:https://weareboulderstrong.org/event/acudetox-4-1-2025/
LOCATION:BoulderStrong Resource Center\, 2935 Baseline Rd\, Boulder\, CO\, 80303\, United States
END:VEVENT
BEGIN:VEVENT
DTSTART;TZID=America/Denver:20250401T110000
DTEND;TZID=America/Denver:20250401T170000
DTSTAMP:20260419T104328
CREATED:20250327T180749Z
LAST-MODIFIED:20250327T180749Z
UID:1801-1743505200-1743526800@weareboulderstrong.org
SUMMARY:Massage Therapy
DESCRIPTION:Reserve a 30-minute appointment over the phone or with the front desk!
URL:https://weareboulderstrong.org/event/massage-therapy-4-1-2025/
LOCATION:BoulderStrong Resource Center\, 2935 Baseline Rd\, Boulder\, CO\, 80303\, United States
END:VEVENT
BEGIN:VEVENT
DTSTART;VALUE=DATE:20250331
DTEND;VALUE=DATE:20250401
DTSTAMP:20260419T104328
CREATED:20250221T212749Z
LAST-MODIFIED:20250221T212749Z
UID:1755-1743379200-1743465599@weareboulderstrong.org
SUMMARY:Cesar Chavez Day (closed)
DESCRIPTION:The Boulder Strong Resource Center will be closed for Cesar Chavez Day.
URL:https://weareboulderstrong.org/event/cesar-chavez-day-2025/
LOCATION:CO
END:VEVENT
BEGIN:VEVENT
DTSTART;TZID=America/Denver:20250325T110000
DTEND;TZID=America/Denver:20250325T170000
DTSTAMP:20260419T104328
CREATED:20250221T212124Z
LAST-MODIFIED:20250221T212124Z
UID:1748-1742900400-1742922000@weareboulderstrong.org
SUMMARY:AcuDetox
DESCRIPTION:AcuDetox is a type of acupuncture treatment that is performed on the ears by certified providers. AcuDetox has many proven therapeutic benefits\, come by to learn more or try it out! All appointments are on a walk-in basis.
URL:https://weareboulderstrong.org/event/acudetox-3-25-2025/
LOCATION:BoulderStrong Resource Center\, 2935 Baseline Rd\, Boulder\, CO\, 80303\, United States
END:VEVENT
BEGIN:VEVENT
DTSTART;TZID=America/Denver:20250325T110000
DTEND;TZID=America/Denver:20250325T170000
DTSTAMP:20260419T104328
CREATED:20250221T211605Z
LAST-MODIFIED:20250221T211605Z
UID:1736-1742900400-1742922000@weareboulderstrong.org
SUMMARY:Massage Therapy
DESCRIPTION:Reserve a 30-minute appointment over the phone or with the front desk!
URL:https://weareboulderstrong.org/event/massage-therapy-3-25-2025/
LOCATION:BoulderStrong Resource Center\, 2935 Baseline Rd\, Boulder\, CO\, 80303\, United States
END:VEVENT
BEGIN:VEVENT
DTSTART;VALUE=DATE:20250324
DTEND;VALUE=DATE:20250325
DTSTAMP:20260419T104328
CREATED:20250221T211026Z
LAST-MODIFIED:20250221T211026Z
UID:1728-1742774400-1742860799@weareboulderstrong.org
SUMMARY:Virtual only
DESCRIPTION:The Boulder Strong Resource Center office will be closed\, but virtual appointments and support are still available. Call us at 303-545-0844 from 10am-5:30pm.
URL:https://weareboulderstrong.org/event/virtual-only-3-24-2025/
LOCATION:CO
END:VEVENT
BEGIN:VEVENT
DTSTART;TZID=America/Denver:20250322T140000
DTEND;TZID=America/Denver:20250322T140000
DTSTAMP:20260419T104328
CREATED:20250221T212541Z
LAST-MODIFIED:20250305T170244Z
UID:1752-1742652000-1742652000@weareboulderstrong.org
SUMMARY:Day of Remembrance
DESCRIPTION:On March 22\, 2025\, the City of Boulder\, the Boulder Strong Resource Center\, and other community partners will hold a Day of Remembrance event to honor the victims of the March 22\, 2021 mass shooting in Boulder. All are welcome to join us in person as we remember those who are no longer with us\, offer support to one another and come together as a community. \n\nWhen: March 22 at 2 p.m. Doors open at 1:30 p.m.\nWhere: The Museum of Boulder\, 2205 Broadway\, Boulder\, CO\nCost: The event is free and open to the public\n\n\n\n\n\n\n\n\n\n\n\n\n\n\n\nVisit bouldercolorado.gov or download this flyer for more details.
URL:https://weareboulderstrong.org/event/day-of-remembrance-2025/
LOCATION:The Museum of Boulder\, 2205 Broadway\, Boulder\, CO\, United States
ATTACH;FMTTYPE=image/png:https://weareboulderstrong.org/wp-content/uploads/boulder-strong-2025-header-english.png
END:VEVENT
BEGIN:VEVENT
DTSTART;TZID=America/Denver:20250320T110000
DTEND;TZID=America/Denver:20250320T170000
DTSTAMP:20260419T104328
CREATED:20250221T212052Z
LAST-MODIFIED:20250221T212052Z
UID:1746-1742468400-1742490000@weareboulderstrong.org
SUMMARY:AcuDetox
DESCRIPTION:AcuDetox is a type of acupuncture treatment that is performed on the ears by certified providers. AcuDetox has many proven therapeutic benefits\, come by to learn more or try it out! All appointments are on a walk-in basis.
URL:https://weareboulderstrong.org/event/acudetox-3-20-2025/
LOCATION:BoulderStrong Resource Center\, 2935 Baseline Rd\, Boulder\, CO\, 80303\, United States
END:VEVENT
BEGIN:VEVENT
DTSTART;TZID=America/Denver:20250320T110000
DTEND;TZID=America/Denver:20250320T170000
DTSTAMP:20260419T104328
CREATED:20250221T211654Z
LAST-MODIFIED:20250221T211654Z
UID:1738-1742468400-1742490000@weareboulderstrong.org
SUMMARY:Massage Therapy
DESCRIPTION:Reserve a 30-minute appointment over the phone or with the front desk!
URL:https://weareboulderstrong.org/event/massage-therapy-3-20-2025/
LOCATION:BoulderStrong Resource Center\, 2935 Baseline Rd\, Boulder\, CO\, 80303\, United States
END:VEVENT
BEGIN:VEVENT
DTSTART;TZID=America/Denver:20250318T150000
DTEND;TZID=America/Denver:20250318T170000
DTSTAMP:20260419T104328
CREATED:20250221T212228Z
LAST-MODIFIED:20250221T212228Z
UID:1750-1742310000-1742317200@weareboulderstrong.org
SUMMARY:🎬🍕 Za Reels 🍕🎬
DESCRIPTION:Join us for pizza and a movie! And don’t forget to vote for your movie choice.  \n*Za Reelz time is subject to change. Call the center at 303-545-0844 or check in with a staff member.
URL:https://weareboulderstrong.org/event/%f0%9f%8e%ac%f0%9f%8d%95-za-reels-%f0%9f%8d%95%f0%9f%8e%ac-march-2025/
LOCATION:BoulderStrong Resource Center\, 2935 Baseline Rd\, Boulder\, CO\, 80303\, United States
END:VEVENT
BEGIN:VEVENT
DTSTART;TZID=America/Denver:20250318T110000
DTEND;TZID=America/Denver:20250318T170000
DTSTAMP:20260419T104328
CREATED:20250221T212018Z
LAST-MODIFIED:20250221T212018Z
UID:1744-1742295600-1742317200@weareboulderstrong.org
SUMMARY:AcuDetox
DESCRIPTION:AcuDetox is a type of acupuncture treatment that is performed on the ears by certified providers. AcuDetox has many proven therapeutic benefits\, come by to learn more or try it out! All appointments are on a walk-in basis.
URL:https://weareboulderstrong.org/event/acudetox-3-18-2025/
LOCATION:BoulderStrong Resource Center\, 2935 Baseline Rd\, Boulder\, CO\, 80303\, United States
END:VEVENT
BEGIN:VEVENT
DTSTART;TZID=America/Denver:20250318T110000
DTEND;TZID=America/Denver:20250318T170000
DTSTAMP:20260419T104328
CREATED:20250221T211529Z
LAST-MODIFIED:20250221T211529Z
UID:1734-1742295600-1742317200@weareboulderstrong.org
SUMMARY:Massage Therapy
DESCRIPTION:Reserve a 30-minute appointment over the phone or with the front desk!
URL:https://weareboulderstrong.org/event/massage-therapy-3-18-2025/
LOCATION:BoulderStrong Resource Center\, 2935 Baseline Rd\, Boulder\, CO\, 80303\, United States
END:VEVENT
BEGIN:VEVENT
DTSTART;VALUE=DATE:20250317
DTEND;VALUE=DATE:20250318
DTSTAMP:20260419T104328
CREATED:20250221T210944Z
LAST-MODIFIED:20250221T210944Z
UID:1726-1742169600-1742255999@weareboulderstrong.org
SUMMARY:Virtual only
DESCRIPTION:The Boulder Strong Resource Center office will be closed\, but virtual appointments and support are still available. Call us at 303-545-0844 from 10am-5:30pm.
URL:https://weareboulderstrong.org/event/virtual-only-3-17-2025/
LOCATION:CO
END:VEVENT
BEGIN:VEVENT
DTSTART;TZID=America/Denver:20250311T110000
DTEND;TZID=America/Denver:20250311T170000
DTSTAMP:20260419T104328
CREATED:20250221T211946Z
LAST-MODIFIED:20250221T211946Z
UID:1742-1741690800-1741712400@weareboulderstrong.org
SUMMARY:AcuDetox
DESCRIPTION:AcuDetox is a type of acupuncture treatment that is performed on the ears by certified providers. AcuDetox has many proven therapeutic benefits\, come by to learn more or try it out! All appointments are on a walk-in basis.
URL:https://weareboulderstrong.org/event/acudetox-3-11-2025/
LOCATION:BoulderStrong Resource Center\, 2935 Baseline Rd\, Boulder\, CO\, 80303\, United States
END:VEVENT
BEGIN:VEVENT
DTSTART;TZID=America/Denver:20250311T110000
DTEND;TZID=America/Denver:20250311T170000
DTSTAMP:20260419T104328
CREATED:20250221T211500Z
LAST-MODIFIED:20250221T211500Z
UID:1732-1741690800-1741712400@weareboulderstrong.org
SUMMARY:Massage Therapy
DESCRIPTION:Reserve a 30-minute appointment over the phone or with the front desk!
URL:https://weareboulderstrong.org/event/massage-therapy-3-11-2025/
LOCATION:BoulderStrong Resource Center\, 2935 Baseline Rd\, Boulder\, CO\, 80303\, United States
END:VEVENT
END:VCALENDAR