BEGIN:VCALENDAR
VERSION:2.0
PRODID:-//#BoulderStrong Resource Center - ECPv6.15.20//NONSGML v1.0//EN
CALSCALE:GREGORIAN
METHOD:PUBLISH
X-ORIGINAL-URL:https://weareboulderstrong.org
X-WR-CALDESC:Events for #BoulderStrong Resource Center
REFRESH-INTERVAL;VALUE=DURATION:PT1H
X-Robots-Tag:noindex
X-PUBLISHED-TTL:PT1H
BEGIN:VTIMEZONE
TZID:America/Denver
BEGIN:DAYLIGHT
TZOFFSETFROM:-0700
TZOFFSETTO:-0600
TZNAME:MDT
DTSTART:20220313T090000
END:DAYLIGHT
BEGIN:STANDARD
TZOFFSETFROM:-0600
TZOFFSETTO:-0700
TZNAME:MST
DTSTART:20221106T080000
END:STANDARD
BEGIN:DAYLIGHT
TZOFFSETFROM:-0700
TZOFFSETTO:-0600
TZNAME:MDT
DTSTART:20230312T090000
END:DAYLIGHT
BEGIN:STANDARD
TZOFFSETFROM:-0600
TZOFFSETTO:-0700
TZNAME:MST
DTSTART:20231105T080000
END:STANDARD
BEGIN:DAYLIGHT
TZOFFSETFROM:-0700
TZOFFSETTO:-0600
TZNAME:MDT
DTSTART:20240310T090000
END:DAYLIGHT
BEGIN:STANDARD
TZOFFSETFROM:-0600
TZOFFSETTO:-0700
TZNAME:MST
DTSTART:20241103T080000
END:STANDARD
END:VTIMEZONE
BEGIN:VEVENT
DTSTART;TZID=America/Denver:20230629T103000
DTEND;TZID=America/Denver:20230629T170000
DTSTAMP:20260422T221922
CREATED:20230511T172423Z
LAST-MODIFIED:20230601T215218Z
UID:1104-1688034600-1688058000@weareboulderstrong.org
SUMMARY:Acudetox
DESCRIPTION:Acudetox is a type of acupuncture treatment that is performed on the ears by certified providers. Acudetox has many proven therapeutic benefits\, come by to learn more or try it out! All appointments are on a walk-in basis.
URL:https://weareboulderstrong.org/event/acudetox-20/
LOCATION:BoulderStrong Resource Center\, 2935 Baseline Rd\, Boulder\, CO\, 80303\, United States
END:VEVENT
BEGIN:VEVENT
DTSTART;TZID=America/Denver:20230629T103000
DTEND;TZID=America/Denver:20230629T170000
DTSTAMP:20260422T221922
CREATED:20230511T180448Z
LAST-MODIFIED:20230601T215200Z
UID:1148-1688034600-1688058000@weareboulderstrong.org
SUMMARY:Massage Therapy
DESCRIPTION:Reserve a 30 minute appointment with the front desk!
URL:https://weareboulderstrong.org/event/massage-therapy-26/
LOCATION:BoulderStrong Resource Center\, 2935 Baseline Rd\, Boulder\, CO\, 80303\, United States
END:VEVENT
BEGIN:VEVENT
DTSTART;TZID=America/Denver:20230629T123000
DTEND;TZID=America/Denver:20230629T130000
DTSTAMP:20260422T221922
CREATED:20230511T165854Z
LAST-MODIFIED:20230511T165854Z
UID:1063-1688041800-1688043600@weareboulderstrong.org
SUMMARY:Meditative Minds
DESCRIPTION:This is a DBT skills-based group that combines mindfulness concepts with an experiential meditation practice. All ability levels are welcome! \n  \n 
URL:https://weareboulderstrong.org/event/meditative-minds-4/
LOCATION:BoulderStrong Resource Center\, 2935 Baseline Rd\, Boulder\, CO\, 80303\, United States
END:VEVENT
END:VCALENDAR